Workbook

Sheet Summary 
A1: Summary
A2: Year | B2: 2009 | C2: 2010 | D2: 2011 | E2: 2012 | F2: 2013 | G2: 2014 | H2: 2015 | I2: 2016 | J2: 2017 | K2: 2018 | L2: 2019 | M2: 2020 | N2: 2021 | O2: 2022 | P2: 2023 | Q2: 2024 | R2: 2025
A3: No. of transactions | B3: =SUM('2009'!C4:L4) -> 2836186 | C3: =SUM('2010'!C4:N4) -> 28815741 | D3: =SUM('2011'!C4:N4) -> 87480931 | E3: =SUM('2012'!B4:M4) -> 241727989 | F3: =SUM('2013'!B4:M4) -> 399460833 | G3: =SUM('2014'!B3:M3) -> 496268636 | H3: =SUM('2015'!B3:M3) -> 693574008 | I3: =SUM('2016'!B4:M4) -> 974746755 | J3: =SUM('2017'!B4:M4) -> 1206845135 | K3: =SUM('2018'!B4:M4) -> 1878735657 | L3: =SUM('2019'!B4:M4) -> 2840934220 | M3: =SUM('2020'!B3:M3) -> 3.5269722e+09 | N3: =SUM('2021'!B3:M3) -> 4290780097 | O3: =SUM('2022'!B3:M3) -> 5230548350 | P3: =SUM('2023'!B3:M3) -> 6429313678 | Q3: =SUM('2024'!B3:M3) -> 7650579089 | R3: =SUM('2025'!B3:M3) -> 9144393808
A4: Value of transactions (UGX)* | B4: =SUM('2009'!C5:L5) -> 132575206171 | C4: =SUM('2010'!C5:N5) -> 962729509099 | D4: =SUM('2011'!C5:N5) -> 3752955104466 | E4: =SUM('2012'!B5:M5) -> 11662775517340 | F4: =SUM('2013'!B5:M5) -> 18645660340200 | G4: =SUM('2014'!B4:M4) -> 24053901819290 | H4: =SUM('2015'!B4:M4) -> 32738946480277 | I4: =SUM('2016'!B5:M5) -> 43830532622372 | J4: =SUM('2017'!B5:M5) -> 63092991145753 | K4: =SUM('2018'!B5:M5) -> 71100055945110 | L4: =SUM('2019'!B5:M5) -> 73091852190363 | M4: =SUM('2020'!B4:M4) -> 9.3728612e+13 | N4: =SUM('2021'!B4:M4) -> 1.3892075e+14 | O4: =SUM('2022'!B4:M4) -> 1.6561479e+14 | P4: =SUM('2023'!B4:M4) -> 2.2751047e+14 | Q4: =SUM('2024'!B4:M4) -> 2.8583207e+14 | R4: =SUM('2025'!B4:M4) -> 3.658769e+14
A5: No. of registered customers | B5: =+'2009'!L6 -> 552047 | C5: =+'2010'!N6 -> 1683713 | D5: =+'2011'!N6 -> 2879968 | E5: =+'2012'!M6 -> 8870873 | F5: ='2013'!M6 -> 14243379 | G5: ='2014'!M5 -> 18800416 | H5: ='2015'!M5 -> 21102851 | I5: ='2016'!M6 -> 21585484 | J5: ='2017'!M6 -> 23362532 | K5: ='2018'!M6 -> 24465981 | L5: ='2019'!M6 -> 27113702 | M5: ='2020'!M5 -> 30735167 | N5: =+'2021'!M5 -> 32762369 | O5: =+'2022'!M5 -> 40891557 | P5: =+'2023'!M5 -> 43409491 | Q5: =+'2024'!M5 -> 50513667 | R5: ='2025'!M5 -> 53632205
A6: Source: Bank of Uganda
A8: Note:
A9: *The value of transactions covers all categories of digital transactions, including but not limited to person-to-person transfers, cash deposits and withdrawals, merchant and bill payments, transfers between bank accounts and wallets. No transactions are counted more than once.

Sheet 2009
F1: MOBILE MONEY STATISTICS 2009
C3: March | D3: April | E3: May | F3: June | G3: July | H3: August | I3: September | J3: October | K3: November | L3: December
A4: 1 | B4: No. of transactions | C4: 11016 | D4: 37028 | E4: 64166 | F4: 114489 | G4: 189398 | H4: 234492 | I4: 269833 | J4: 377948 | K4: 595671 | L4: 942145
A5: 2 | B5: Value of transactions (UGX) | C5: 488737661 | D5: 2193564620 | E5: 4149921163 | F5: 6724371167 | G5: 10256432626 | H5: 13253506000 | I5: 17307521378 | J5: 21459708930 | K5: 24362771050 | L5: 32378671576
A6: 3 | B6: No. of registered customers | C6: 10011 | D6: 26247 | E6: 49369 | F6: 82932 | G6: 133347 | H6: 182054 | I6: 254853 | J6: 353899 | K6: 453130 | L6: 552047
A7: 4 | B7: Value of outstanding remittances (UGX) | C7: 43612885 | D7: 54534105 | E7: 74993423 | F7: 83786400 | G7: 79702750 | H7: 117960371 | I7: 135947800 | J7: 153162773 | K7: 157664050 | L7: 179260764
A8: 5 | B8: Balance on customers’ accounts (UGX) | C8: 601124186 | D8: 762692712 | E8: 978602165 | F8: 1053954821 | G8: 1429214218 | H8: 1813411988 | I8: 2089693579 | J8: 2490989748 | K8: 2705073891 | L8: 3608281666
B9: Source: Bank of Uganda

Sheet 2010
E1: MOBILE MONEY STATISTICS 2010
C3: January | D3: February | E3: March | F3: April | G3: May | H3: June | I3: July | J3: August | K3: September | L3: October | M3: November | N3: December
A4: 1 | B4: No. of transactions | C4: 934167 | D4: 1100971 | E4: 1449135 | F4: 1675522 | G4: 1918850 | H4: 2078698 | I4: 2302637 | J4: 2534001 | K4: 2904875 | L4: 3917593 | M4: 3931948 | N4: 4067344
A5: 2 | B5: Value of transactions (UGX) | C5: 31761194283 | D5: 39345783866 | E5: 50240929068 | F5: 55768622666 | G5: 66903794996 | H5: 68507108730 | I5: 75745714503 | J5: 88032378184 | K5: 98796516680 | L5: 112240111951 | M5: 125650631089 | N5: 149736723083
A6: 3 | B6: No. of registered customers | C6: 650415 | D6: 772709 | E6: 887499 | F6: 965279 | G6: 1039606 | H6: 1106281 | I6: 1169360 | J6: 1243649 | K6: 1352970 | L6: 1487587 | M6: 1597458 | N6: 1683713
A7: 4 | B7: Value of outstanding remittances (UGX) | C7: 195814904 | D7: 224995802 | E7: 284631431 | F7: 321610510 | G7: 377976702 | H7: 440885834 | I7: 450209615 | J7: 534295354 | K7: 584153239 | L7: 596740479 | M7: 694660340 | N7: 796481992
A8: 5 | B8: Balance on customers’ accounts (UGX) | C8: 3432155254 | D8: 3930368133 | E8: 4828013930 | F8: 6016886336 | G8: 6477810188 | H8: 8351918926 | I8: 9133778640 | J8: 10150635901 | K8: 11416131798 | L8: 12238874719 | M8: 14225352251 | N8: 16780777651
B9: Source: Bank of Uganda

Sheet 2011
D1: MOBILE MONEY STATISTICS 2011
C3: January | D3: February | E3: March | F3: April | G3: May | H3: June | I3: July | J3: August | K3: September | L3: October | M3: November | N3: December
B4: No. of transactions | C4: 3879725 | D4: 3935188 | E4: 5405761 | F4: 6088695 | G4: 6553445 | H4: 7185477 | I4: 7573181 | J4: 8147574 | K4: 8540337 | L4: 10750479 | M4: 9302395 | N4: 10118674
B5: Value of transactions (UGX) | C5: 148445954449 | D5: 162559971099 | E5: 240004126070 | F5: 251881855772 | G5: 280270469837 | H5: 303274406176 | I5: 317725015854 | J5: 351872183842 | K5: 369514910500 | L5: 450253868322 | M5: 430651287580 | N5: 446501054965
B6: No. of registered customers | C6: 1775755 | D6: 1862243 | E6: 1968125 | F6: 2067871 | G6: 2173973 | H6: 2299237 | I6: 2382447 | J6: 2507530 | K6: 2610619 | L6: 2721242 | M6: 2806866 | N6: 2879968
B7: Value of outstanding remittances (UGX) | C7: 944891080 | D7: 1011766732 | E7: 1136144992 | F7: 1059832873 | G7: 1167415516 | H7: 1230999538 | I7: 1263561651 | J7: 1372170148 | K7: 1413695206 | L7: 1463227046 | M7: 1411447862 | N7: 1501061080
B8: Balance on customers’ accounts (UGX) | C8: 16601947348 | D8: 18134643585 | E8: 22528666824 | F8: 24389195464 | G8: 25905080815 | H8: 31329242980 | I8: 35924825581 | J8: 38208289593 | K8: 40210730908 | L8: 43959883177 | M8: 43489433854 | N8: 43808573203
B9: Source: Bank of Uganda

Sheet 2012
G1: MOBILE MONEY STATISTICS 2012
B3: January | C3: February | D3: March | E3: April | F3: May | G3: June | H3: July | I3: August | J3: September | K3: October | L3: November | M3: December
A4: No. of transactions | B4: 10505334 | C4: 12871784 | D4: 16886105 | E4: 16783881 | F4: 18261321 | G4: 19204691 | H4: 21007887 | I4: 21878124 | J4: 23694014 | K4: 24350922 | L4: 26683518 | M4: 29600408
A5: Value of transactions (UGX) | B5: 629671524765 | C5: 808979152272 | D5: 873962076273 | E5: 804836475641 | F5: 879375607632 | G5: 904377387061 | H5: 949012023323 | I5: 1045319855997 | J5: 1042182706500 | K5: 1212586459250 | L5: 1194851070463 | M5: 1317621178163
A6: No. of registered customers | B6: 3042820 | C6: 3240729 | D6: 3843366 | E6: 4448688 | F6: 5120159 | G6: 5667408 | H6: 6178777 | I6: 6768428 | J6: 7265846 | K6: 7793290 | L6: 8392051 | M6: 8870873
A7: Value of outstanding remittances (UGX) | B7: 249527418 | C7: 209529396 | D7: 294921074 | E7: 273725830 | F7: 311919216 | G7: 357571553 | H7: 501946723 | I7: 380750203 | J7: 449831629 | K7: 355235151 | L7: 365448673 | M7: 2609337557
A8: Balance on customers’ accounts (UGX) | B8: 43223914481 | C8: 47899734549 | D8: 53141272317 | E8: 54196113160 | F8: 55986403174 | G8: 48254486449 | H8: 51619572930 | I8: 57517427475 | J8: 58475879806 | K8: 59062399361 | L8: 64968930412 | M8: 71959374205
A9: Source: Bank of Uganda

Sheet 2013
B1: MOBILE MONEY STATISTICS 2013
B3: January | C3: February | D3: March | E3: April | F3: May | G3: June | H3: July | I3: August | J3: September | K3: October | L3: November | M3: December
A4: No. of transactions | B4: 28111048 | C4: 29149004 | D4: 33591574 | E4: 33986729 | F4: 34965566 | G4: 32558138 | H4: 31284614 | I4: 32655867 | J4: 32606984 | K4: 36452275 | L4: 35747752 | M4: 38351282
A5: Value of transactions (UGX) | B5: 1247289880122 | C5: 1279005164811 | D5: 1427753102957 | E5: 1407079104626 | F5: 1521064706832 | G5: 1391658969855 | H5: 1554685048781 | I5: 1590235219494 | J5: 1650454343031 | K5: 1812081940223 | L5: 1781990495014 | M5: 1982362364454
A6: No. of registered customers | B6: 9344398 | C6: 10748622 | D6: 11126567 | E6: 11416275 | F6: 11675543 | G6: 12117821 | H6: 12179123 | I6: 12734259 | J6: 13202264 | K6: 13565614 | L6: 13964531 | M6: 14243379
A7: Value of outstanding remittances (UGX) | B7: 630786523 | C7: 646608362 | D7: 725485067 | E7: 825058246 | F7: 889619797 | G7: 859917322 | H7: 976649521 | I7: 941489760 | J7: 865343621 | K7: 345401938 | L7: 582891807 | M7: 503411209
A8: Balance on customers’ accounts (UGX) | B8: 67487798642 | C8: 69883091197 | D8: 78462511351 | E8: 105216378638 | F8: 110741837647 | G8: 124361702422 | H8: 121625957236 | I8: 137385154978 | J8: 141061811552 | K8: 130982150732 | L8: 143547290892 | M8: 151243593892
A9: No. of agents | B9: 23153 | C9: 24104 | D9: 25048 | E9: 34721 | F9: 36296 | G9: 47645 | H9: 50626 | I9: 53156 | J9: 50997 | K9: 53772 | L9: 52130 | M9: 53560
A10: Source: Bank of Uganda

Sheet 2014
A1: MOBILE MONEY STATISTICS 2014
B2: January | C2: February | D2: March | E2: April | F2: May | G2: June | H2: July | I2: August | J2: September | K2: October | L2: November | M2: December
A3: No. of transactions | B3: 36585754 | C3: 35770451 | D3: 38288635 | E3: 42205930 | F3: 42720911 | G3: 43046389 | H3: 45900317 | I3: 42315229 | J3: 31447990 | K3: 43947978 | L3: 44601921 | M3: 49437131
A4: Value of transactions (Shs) | B4: 1849975276478 | C4: 1897355061884 | D4: 2016333392179 | E4: 1968810625206 | F4: 2081154933957 | G4: 2058790130373 | H4: 2210548648016 | I4: 1966322990812 | J4: 1700471516750 | K4: 1990069835800 | L4: 1994877720006 | M4: 2319191687829
A5: No. of registered customers | B5: 14785059 | C5: 15152623 | D5: 16020998 | E5: 16657517 | F5: 17226879 | G5: 17644162 | H5: 16918227 | I5: 17340955 | J5: 17988640 | K5: 18212857 | L5: 18859683 | M5: 18800416
A6: Value of outstanding remittances (Shs) | B6: 367456654 | C6: 378504098 | D6: 187967875 | E6: 276165894 | F6: 423994974 | G6: 256052315 | H6: 288525880 | I6: 276028137 | J6: 317644306 | K6: 1025556527 | L6: 292358169 | M6: 1963989326
A7: Balance on customers accounts (Shs) | B7: 144081402712 | C7: 147482502951 | D7: 170403793130 | E7: 156533452647 | F7: 161068623025 | G7: 171097745271 | H7: 198366372282 | I7: 224077263178 | J7: 228578087774 | K7: 231967501994 | L7: 248073812348 | M7: 219178978485
A8: No. of agents | B8: 53375 | C8: 55219 | D8: 58258 | E8: 60256 | F8: 62275 | G8: 63983 | H8: 63977 | I8: 67320 | J8: 67319 | K8: 72751 | L8: 75499 | M8: 79002
A9: Source: Bank of Uganda

Sheet 2015
G1: MOBILE MONEY STATISTICS 2015
B2: January | C2: February | D2: March | E2: April | F2: May | G2: June | H2: July | I2: August | J2: September | K2: October | L2: November | M2: December
A3: No. of transactions | B3: 46065092 | C3: 45175867 | D3: 52157071 | E3: 53702157 | F3: 55485247 | G3: 56213131 | H3: 59875925 | I3: 62142656 | J3: 62699421 | K3: 67221600 | L3: 64897586 | M3: 67938255
A4: Value of transactions (Shs) | B4: 2116741104600 | C4: 2207074167368 | D4: 2480865737161 | E4: 2412822862877 | F4: 2562624174724 | G4: 2578952745176 | H4: 2790611114074 | I4: 2931233573060 | J4: 3033591975183 | K4: 3064877238406 | L4: 3206648266025 | M4: 3352903521623
A5: No. of registered customers | B5: 18238735 | C5: 18876067 | D5: 18995390 | E5: 19360667 | F5: 19366621 | G5: 19490935 | H5: 18704220 | I5: 19861460 | J5: 19893691 | K5: 20361979 | L5: 20815676 | M5: 21102851
A6: Value of outstanding remittances (Shs) | B6: 264799442 | C6: 259639089 | D6: 243160178 | E6: 218006633 | F6: 333418471 | G6: 348280299 | H6: 302414527 | I6: 322782332 | J6: 305626383 | K6: 335346364 | L6: 305428741 | M6: 247393923
A7: Balance on customers accounts (Shs) | B7: 224209937809 | C7: 236525806833 | D7: 240688502635 | E7: 237122860178 | F7: 247447106047 | G7: 253415279271 | H7: 261410191828 | I7: 292981876970 | J7: 302554989281 | K7: 312004792468 | L7: 311384835590 | M7: 325293054110
A8: No. of agents | B8: 80715 | C8: 83075 | D8: 87332 | E8: 91986 | F8: 94691 | G8: 96463 | H8: 99484 | I8: 101182 | J8: 105304 | K8: 106649 | L8: 108666 | M8: 109458
A9: Source: Bank of Uganda

Sheet 2016
B1: MM Statistics - 2016
B3: Jan | C3: Feb | D3: Mar | E3: Apr | F3: May | G3: June | H3: July | I3: Aug | J3: Sept | K3: Oct | L3: Nov | M3: Dec
A4: No. of Transactions | B4: 66084413 | C4: 59148982 | D4: 72088080 | E4: 73597478 | F4: 78964753 | G4: 74396056 | H4: 83783853 | I4: 88082561 | J4: 87227055 | K4: 92993217 | L4: 94093047 | M4: 104287260
A5: Value of Transactions (Shs) | B5: 2930325342047 | C5: 2790921799045 | D5: 3361831315660 | E5: 3300972851952 | F5: 3433019818327 | G5: 3451283092536 | H5: 3667451516789 | I5: 3888537587814 | J5: 3926388182294 | K5: 4105879568492 | L5: 4182288000951 | M5: 4791633546465
A6: No. of Registered Customers | B6: 21547312 | C6: 19293757 | D6: 18939660 | E6: 20688809 | F6: 20779661 | G6: 19633770 | H6: 19695997 | I6: 20022164 | J6: 20611152 | K6: 20994600 | L6: 20959461 | M6: 21585484
A7: Value of Outstanding Remittances (Shs) | B7: 414983914 | C7: 222361720 | D7: 232778145 | E7: 309286880 | F7: 161883377 | G7: 1738009532 | H7: 384921939 | I7: 334493954 | J7: 430153361 | K7: 308095338 | L7: 255864142 | M7: 290503019
A8: Balance on Customers Accounts (Shs) | B8: 318533471401 | C8: 333022799079 | D8: 323477543078 | E8: 331668902102 | F8: 313871646786 | G8: 313610323243 | H8: 326227933121 | I8: 321216724944 | J8: 320048394265 | K8: 327650418781 | L8: 345827386019 | M8: 353733473433
A9: No. of Agents | B9: 110520 | C9: 112262 | D9: 111791 | E9: 113241 | F9: 111925 | G9: 119581 | H9: 121989 | I9: 125118 | J9: 127292 | K9: 129403 | L9: 131240 | M9: 132937
A10: Source: Bank of Uganda

Sheet 2017
B1: MM Statistics - 2017
B3: Jan | C3: Feb | D3: Mar | E3: Apr | F3: May | G3: June | H3: July | I3: Aug | J3: Sept | K3: Oct | L3: Nov | M3: Dec
A4: No. of Transactions | B4: 91465196 | C4: 87858579 | D4: 93614253 | E4: 95256703 | F4: 95691280 | G4: 96610440 | H4: 102910816 | I4: 103777178 | J4: 99069317 | K4: 106221783 | L4: 113669624 | M4: 120699966
A5: Value of Transactions (Shs) | B5: 4337994609803 | C5: 4451851455974 | D5: 4969296516721 | E5: 4594564948086 | F5: 4894985997431 | G5: 4959324264031 | H5: 5396708441181 | I5: 5808161626770 | J5: 5543987629208 | K5: 5710196291995 | L5: 5842101190558 | M5: 6583818173995
A6: No. of Registered Customers | B6: 22181585 | C6: 22245069 | D6: 22532144 | E6: 22722078 | F6: 22804607 | G6: 22893648 | H6: 23236414 | I6: 23291850 | J6: 23726352 | K6: 23794662 | L6: 22755370 | M6: 23362532
A7: No. of Active Customers (90 Days) | B7: - | C7: - | D7: - | E7: - | F7: - | G7: - | H7: 5528147 | I7: 5556467 | J7: 5787299 | K7: 5889660 | L7: 6009604 | M7: 6213591
A8: Value of Outstanding Remittances (Shs) | B8: 207322199 | C8: 205549620 | D8: 198160313 | E8: 173895033 | F8: 163291076 | G8: 166641369 | H8: 164657757 | I8: 165780040 | J8: 305660225 | K8: 602801562 | L8: 631130065 | M8: 165825907
A9: Balance on Customers Accounts (Shs) | B9: 363572777076 | C9: 365354805748 | D9: 322856595238 | E9: 360185612222 | F9: 300846870450 | G9: 323212338095 | H9: 308014828272 | I9: 363520864185 | J9: 418978104604 | K9: 420600230580 | L9: 468437052418 | M9: 511885255712
A10: No. of Agents | B10: 135502 | C10: 138802 | D10: 140765 | E10: 143523 | F10: 145646 | G10: 147146 | H10: 147781 | I10: 157111 | J10: 151644 | K10: 153919 | L10: 159790 | M10: 160351
A11: Source: Bank of Uganda

Sheet 2018
B1: MM Statistics - 2018
B3: Jan | C3: Feb | D3: Mar | E3: Apr | F3: May | G3: June | H3: July | I3: Aug | J3: Sept | K3: Oct | L3: Nov | M3: Dec
A4: No. of Transactions | B4: 113490694 | C4: 107358495 | D4: 119886870 | E4: 117169482 | F4: 122494740 | G4: 118608092 | H4: 161664043 | I4: 197892539 | J4: 194855989 | K4: 200899071 | L4: 203073655 | M4: 221341987
A5: Value of Transactions (Shs) | B5: 6023608120738 | C5: 6030149411498 | D5: 6794962543877 | E5: 6242474187731 | F5: 6924416008222 | G5: 6180999008286 | H5: 3809337660838 | I5: 5270784941149 | J5: 5800022958799 | K5: 6064358612075 | L5: 5963720896169 | M5: 5995221595728
A6: No. of Registered Customers | B6: 23831629 | C6: 22689799 | D6: 22662024 | E6: 22565673 | F6: 22608480 | G6: 22733823 | H6: 23003407 | I6: 22132078 | J6: 23948565 | K6: 22798282 | L6: 22561060 | M6: 24465981
A7: No. of Active Customers (90 Days) | B7: 13268076 | C7: 13461343 | D7: 13373933 | E7: 13073784 | F7: 12856566 | G7: 12842833 | H7: 13782111 | I7: 14075902 | J7: 14169240 | K7: 13908771 | L7: 14166203 | M7: 14652583
A8: Value of Outstanding Remittances (Shs) | B8: 623768754 | C8: 835179610 | D8: 3794708879 | E8: 1203761453 | F8: 1064251596 | G8: 650222911 | H8: 1113845183 | I8: 141550573 | J8: 30036914 | K8: 28602480 | L8: 102410189 | M8: 404837962
A9: Balance on Customers’ Accounts (Shs) | B9: 467776459028 | C9: 473024748243 | D9: 500272934189 | E9: 463197905403 | F9: 471967654996 | G9: 495977449459 | H9: 450860379611 | I9: 455074301547 | J9: 288114749253 | K9: 290304943512 | L9: 316105916434 | M9: 338207228569
A10: Agent Balances (Shs) | B10: 72221171666 | C10: 74437876810 | D10: 75349174868 | E10: 79789697612 | F10: 79214161923 | G10: 88386583014 | H10: 97872432509 | I10: 98686222899 | J10: 204118393762 | K10: 175376990300 | L10: 187716384056 | M10: 193093470086
A11: Other Balances (Shs) | B11: - | C11: - | D11: - | E11: - | F11: - | G11: - | H11: - | I11: 10300472498 | J11: 109906229400 | K11: 92034389055 | L11: 112892822328 | M11: 129340228069
A12: Escrow Account Balances (Shs) | B12: - | C12: - | D12: - | E12: - | F12: - | G12: - | H12: - | I12: 561699029884 | J12: 600541074394 | K12: 555375626556 | L12: 614537932735 | M12: 657898107673
A13: No. of Agents | B13: 158593 | C13: 161868 | D13: 163092 | E13: 164603 | F13: 169538 | G13: 166194 | H13: 167357 | I13: 173385 | J13: 178248 | K13: 172090 | L13: 169143 | M13: 184529
A14: Systems uptime (Average % age) | B14: 99.58 | C14: 99.57 | D14: 99.54 | E14: 99.6 | F14: 99.64 | G14: 99.67 | H14: 99.63 | I14: 28.57 | J14: 14.29 | K14: 14.29 | L14: 14.29 | M14: 14.29
A15: No. of Complaints | B15: 16360 | C15: 14814 | D15: 15016 | E15: 18145 | F15: 18325 | G15: 34370 | H15: 25029 | I15: 7371 | J15: 7651 | K15: 8088 | L15: 7118 | M15: 10099
A16: No. of Complaints Resolved | B16: 15681 | C16: 13636 | D16: 13216 | E16: 13725 | F16: 16643 | G16: 30469 | H16: 22025 | I16: 5848 | J16: 6823 | K16: 7265 | L16: 5666 | M16: 8950
A17: No. of Frauds/Suspicious | B17: 19 | C17: 28 | D17: 14 | E17: 13 | F17: 189 | G17: 43 | H17: 22 | I17: 33 | J17: 32 | K17: 27 | L17: 31 | M17: 35
A18: Value of Frauds/Suspicious | B18: 30039886 | C18: 47223500 | D18: 27017787 | E18: 12528000 | F18: 403929502 | G18: 75835590 | H18: 29220484 | I18: 34914156 | J18: 49770301 | K18: 7397969 | L18: 8409539 | M18: 34666370
A19: Source: Bank of Uganda

Sheet 2019
B1: MM Statistics - 2019
B3: Jan | C3: Feb | D3: Mar | E3: Apr | F3: May | G3: June | H3: July | I3: Aug | J3: Sept | K3: Oct | L3: Nov | M3: Dec
A4: No. of Transactions | B4: 218614483 | C4: 201632633 | D4: 237231476 | E4: 224159990 | F4: 228921692 | G4: 220009327 | H4: 234846940 | I4: 243150725 | J4: 242849789 | K4: 256352147 | L4: 256050104 | M4: 277114914
A5: Value of Transactions (Shs) | B5: 5735364060717 | C5: 5400145042213 | D5: 5869880770113 | E5: 5569250037711 | F5: 5903145030572 | G5: 5567981055449 | H5: 5988634858319 | I5: 6223185132835 | J5: 6309278962053 | K5: 6508059494804 | L5: 6703886918189 | M5: 7313040827388
A6: No. of Registered Customers | B6: 23531695 | C6: 23924643 | D6: 24294462 | E6: 24572530 | F6: 25976878 | G6: 25865143 | H6: 25795497 | I6: 25994976 | J6: 26401509 | K6: 26605640 | L6: 26556883 | M6: 27113702
A7: No. of Active Customers (90 Days) | B7: 15013316 | C7: 15232780 | D7: 15346594 | E7: 15322214 | F7: 15594341 | G7: 15481296 | H7: 15432853 | I7: 15368591 | J7: 15673621 | K7: 15899588 | L7: 16165794 | M7: 16637123
A8: Value of Outstanding Remittances (Shs) | B8: 77266806 | C8: 156180289 | D8: 5196661959 | E8: 484756752 | F8: 2074889819 | G8: 3229873470 | H8: 2674293777 | I8: 3096253559 | J8: 1994700232 | K8: 2268382126 | L8: 2080292702 | M8: 1938394638
A9: Balance on Customers’ Accounts (Shs) | B9: 324664137847 | C9: 324554857993 | D9: 326296843753 | E9: 316462906794 | F9: 326545693050 | G9: 331577414843 | H9: 335939749447 | I9: 361959135887 | J9: 352841338965 | K9: 363053405565 | L9: 387218383486 | M9: 417593731417
A10: Agent Balances (Shs) | B10: 173302763124 | C10: 185896673669 | D10: 195998141874 | E10: 157944805158 | F10: 163061689279 | G10: 178044036896 | H10: 170106810403 | I10: 181205370447 | J10: 180857905520 | K10: 179935554784 | L10: 221806155888 | M10: 212563527157
A11: Other Balances (Shs) | B11: 121829090191 | C11: 123531143512 | D11: 141359883887 | E11: 105779431742 | F11: 140534077876 | G11: 123365638360 | H11: 106601193054 | I11: 142439999957 | J11: 148841344913 | K11: 128055593679 | L11: 136040164661 | M11: 128177763021
A12: Escrow Account Balances (Shs) | B12: 617112212324 | C12: 633693598345 | D12: 663337257561 | E12: 580511241772 | F12: 630359095189 | G12: 632670943423 | H12: 612398415178 | I12: 685234766848 | J12: 682064855964 | K12: 670573121135 | L12: 744606052102 | M12: 758148531861
A13: No. of Agents | B13: 200137 | C13: 204759 | D13: 195959 | E13: 198796 | F13: 201179 | G13: 200857 | H13: 202228 | I13: 206197 | J13: 206683 | K13: 218368 | L13: 212085 | M13: 212517
A14: Systems uptime (Average % age) | B14: 20 | C14: 20 | D14: 20 | E14: - | F14: 20 | G14: 20 | H14: 20 | I14: 20 | J14: 20 | K14: 20 | L14: 20 | M14: 20
A15: No. of Complaints | B15: 9319 | C15: 8971 | D15: 11966 | E15: 6622 | F15: 14034 | G15: 11891 | H15: 14389 | I15: 11229 | J15: 8232 | K15: 9550 | L15: 9650 | M15: 7697
A16: No. of Complaints Resolved | B16: 8509 | C16: 8321 | D16: 11118 | E16: 6496 | F16: 13151 | G16: 11091 | H16: 13243 | I16: 10215 | J16: 7466 | K16: 8734 | L16: 8846 | M16: 7037
A17: No. of Frauds/Suspicious | B17: 31 | C17: 35 | D17: 69 | E17: 57 | F17: 31 | G17: 28 | H17: 35 | I17: 41 | J17: 40 | K17: 25 | L17: 49 | M17: 20
A18: Value of Frauds/Suspicious | B18: 16999000 | C18: 17871000 | D18: 67103513 | E18: 765521365 | F18: 8725310 | G18: 215560903 | H18: 9890022 | I18: 18852428 | J18: 23071278 | K18: 18923616 | L18: 13401710 | M18: 13845245
A19: No. of Cash Out Transactions | B19: 21902063 | C19: 21767454 | D19: 25157808 | E19: 25152297 | F19: 25040293 | G19: 24281572 | H19: 25899814 | I19: 26713163 | J19: 26568164 | K19: 28162236
A20: Value of Cash Out Transactions (Shs.) | B20: 1448689075812 | C20: 1478244134814 | D20: 1627648525086 | E20: 1563447686039 | F20: 1637761659060 | G20: 1553023134321 | H20: 1639411307598 | I20: 1675851289684 | J20: 1700398838597 | K20: 1731595671195
A21: Source: Bank of Uganda

Sheet 2020
B1: MM Statistics - 2020
B2: Jan | C2: Feb | D2: Mar | E2: Apr | F2: May | G2: June | H2: July | I2: Aug | J2: Sept | K2: Oct | L2: Nov | M2: Dec
A3: No. of Transactions | B3: 275329604 | C3: 263227290 | D3: 279828435 | E3: 245422344 | F3: 269663569 | G3: 2.8210929e+08 | H3: 304536030 | I3: 312779255 | J3: 307953085 | K3: 319187985 | L3: 314720487 | M3: 352214789
A4: Value of Transactions (Shs) | B4: 6.6452124e+12 | C4: 6.9547829e+12 | D4: 7.0998865e+12 | E4: 5.4453902e+12 | F4: 6.9306961e+12 | G4: 7.6338847e+12 | H4: 8.4972806e+12 | I4: 8.7081472e+12 | J4: 8.5322713e+12 | K4: 8.4771816e+12 | L4: 8.4709802e+12 | M4: 1.0332898e+13
A5: No. of Registered Customers | B5: 27271779 | C5: 27529017 | D5: 27969885 | E5: 28018676 | F5: 28293072 | G5: 28681736 | H5: 29330667 | I5: 29900937 | J5: 30374502 | K5: 30501624 | L5: 30465282 | M5: 30735167
A6: No. of Active Customers (90 Days) | B6: 16967656 | C6: 17319076 | D6: 17754265 | E6: 17731112 | F6: 17681711 | G6: 17517011 | H6: 18290936 | I6: 18915433 | J6: 19339231 | K6: 19523769 | L6: 19946819 | M6: 19759974
A7: Value of Outstanding Remittances (Shs) | B7: 1.2666416e+09 | C7: 9.5787972e+08 | D7: 1.4105932e+09 | E7: 1221420887 | F7: 333260327 | G7: 1497859210 | H7: 1928667263 | I7: 2603941404 | J7: 1426750300 | K7: 1697753441 | L7: 289273566 | M7: 605140886
A8: Balance on Customers’ Accounts (Shs) | B8: 4.1304358e+11 | C8: 4.0540553e+11 | D8: 4.7766726e+11 | E8: 5.2840736e+11 | F8: 5.3486919e+11 | G8: 5.3239012e+11 | H8: 5.2312087e+11 | I8: 5.1823119e+11 | J8: 5.121054e+11 | K8: 5.0166477e+11 | L8: 5.1054918e+11 | M8: 5.7136159e+11
A9: No. of Agents | B9: 216721 | C9: 221117 | D9: 223901 | E9: 212131 | F9: 215271 | G9: 226615 | H9: 233383 | I9: 246137 | J9: 376111 | K9: 248618 | L9: 255955 | M9: 263698
A10: Source: Bank of Uganda

Sheet 2021
B1: MM Statistics - 2021
B2: Jan | C2: Feb | D2: Mar | E2: Apr | F2: May | G2: June | H2: July | I2: Aug | J2: Sept | K2: Oct | L2: Nov | M2: Dec
A3: No. of Transactions | B3: 312350198 | C3: 304391276 | D3: 343361911 | E3: 334650770 | F3: 349088072 | G3: 339414940 | H3: 348606997 | I3: 375654651 | J3: 376679760 | K3: 398573028 | L3: 391453276 | M3: 416555218
A4: Value of Transactions (Shs) | B4: 8.8067995e+12 | C4: 9.0421108e+12 | D4: 1.0590938e+13 | E4: 1.0086418e+13 | F4: 1.0985139e+13 | G4: 1.0853384e+13 | H4: 1.1726932e+13 | I4: 1.255011e+13 | J4: 1.2496576e+13 | K4: 1.3856056e+13 | L4: 1.4264431e+13 | M4: 1.3661855e+13
A5: No. of Registered Customers | B5: 30358357 | C5: 30560045 | D5: 30870792 | E5: 30887995 | F5: 31233230 | G5: 31447626 | H5: 31972302 | I5: 31967663 | J5: 32250242 | K5: 32154520 | L5: 32178582 | M5: 32762369
A6: No. of Active Customers (90 Days) | B6: 20237248 | C6: 20347009 | D6: 20306717 | E6: 20646912 | F6: 20878300 | G6: 21184870 | H6: 20748657 | I6: 21036614 | J6: 21319869 | K6: 21711651 | L6: 22130568 | M6: 22669251
A7: Value of Outstanding Remittances (Shs) | B7: 392215229 | C7: 736760304 | D7: 537459219 | E7: 25568254163 | F7: 2.5311982e+08 | G7: 22630090586 | H7: 1698128139 | I7: 9756008734 | J7: 2605475202 | K7: 2731158590 | L7: 1673439220 | M7: 4475564207
A8: Balance on Customers’ Accounts (Shs) | B8: 5.1316985e+11 | C8: 5.2744097e+11 | D8: 5.4692078e+11 | E8: 5.4245405e+11 | F8: 5.3899615e+11 | G8: 6.2137725e+11 | H8: 1.1068139e+12 | I8: 1.0212028e+12 | J8: 9.7072342e+11 | K8: 1.044285e+12 | L8: 1.0981922e+12 | M8: 1.169408e+12
A9: No. of Agents | B9: 261566 | C9: 263846 | D9: 269787 | E9: 274882 | F9: 294204 | G9: 299976 | H9: 500437 | I9: 518180 | J9: 292210 | K9: 477776 | L9: 467263 | M9: 475755
A10: Source: Bank of Uganda

Sheet 2022
B1: MM Statistics - 2022
B2: Jan | C2: Feb | D2: Mar | E2: Apr | F2: May | G2: June | H2: July | I2: Aug | J2: Sept | K2: Oct | L2: Nov | M2: Dec
A3: No. of Transactions | B3: 400387487 | C3: 374532115 | D3: 410490371 | E3: 413334200 | F3: 430019829 | G3: 419913749 | H3: 442443584 | I3: 455932020 | J3: 442265724 | K3: 459449937 | L3: 449274003 | M3: 532505331
A4: Value of Transactions (Shs) | B4: 1.2820551e+13 | C4: 1.2204182e+13 | D4: 1.3096643e+13 | E4: 1.2499187e+13 | F4: 1.3753513e+13 | G4: 1.3061504e+13 | H4: 1.3652518e+13 | I4: 1.4328409e+13 | J4: 1.4614768e+13 | K4: 1.4600467e+13 | L4: 1.4262276e+13 | M4: 1.6720773e+13
A5: No. of Registered Customers | B5: 32883004 | C5: 35166121 | D5: 36850842 | E5: 37094766 | F5: 37442913 | G5: 38465075 | H5: 38790059 | I5: 39165217 | J5: 39421073 | K5: 39696903 | L5: 40272188 | M5: 40891557
A6: No. of Active Customers (90 Days) | B6: 22841463 | C6: 23999384 | D6: 23607709 | E6: 23505644 | F6: 23369366 | G6: 65314103775 | H6: 23751056 | I6: 24183856 | J6: 24717540 | K6: 24598908 | L6: 25025559 | M6: 25389777
A7: Value of Outstanding Remittances (Shs) | B7: 1323033927 | C7: 1326119372 | D7: 792586231 | E7: 1723889474 | F7: 1206525465 | G7: 1.574443e+11 | H7: 1656495345 | I7: 2.7578999e+10 | J7: 108270094846 | K7: 7316401208 | L7: 1433705813 | M7: 2006813097
A8: Balance on Customers’ Accounts (Shs) | B8: 1.3536738e+12 | C8: 1.0090297e+12 | D8: 1.1130985e+12 | E8: 1.2059381e+12 | F8: 1.2134874e+12 | G8: 1.3147623e+12 | H8: 1.1862652e+12 | I8: 1.3121705e+12 | J8: 1.5868635e+12 | K8: 1.3273717e+12 | L8: 1.2347094e+12 | M8: 1.366173e+12
A9: No. of Agents | B9: 496046 | C9: 517864 | D9: 512675 | E9: 457865 | F9: 469604 | G9: 468476 | H9: 478380 | I9: 485947 | J9: 490725 | K9: 464993 | L9: 472043 | M9: 447182
A10: Source: Bank of Uganda

Sheet 2023
B1: MM Statistics - 2023
B2: Jan | C2: Feb | D2: Mar | E2: Apr | F2: May | G2: June | H2: July | I2: Aug | J2: Sept | K2: Oct | L2: Nov | M2: Dec
A3: No. of Transactions | B3: 493396305 | C3: 458500959 | D3: 490716107 | E3: 499495776 | F3: 627948579 | G3: 500345765 | H3: 538631170 | I3: 557099319 | J3: 534331488 | K3: 571807840 | L3: 550666767 | M3: 606373603
A4: Value of Transactions (Shs) | B4: 1.5431044e+13 | C4: 1.584642e+13 | D4: 1.7237746e+13 | E4: 1.7020503e+13 | F4: 1.9270434e+13 | G4: 1.8251249e+13 | H4: 2.0483692e+13 | I4: 2.0877271e+13 | J4: 2.08559e+13 | K4: 2.0656262e+13 | L4: 2.0019923e+13 | M4: 2.1560026e+13
A5: No. of Registered Customers | B5: 41300548 | C5: 41209354 | D5: 42204938 | E5: 42535455 | F5: 42948245 | G5: 42952834 | H5: 43333622 | I5: 43934198 | J5: 44941415 | K5: 45800710 | L5: 44108845 | M5: 43409491
A6: No. of Active Customers (90 Days) | B6: 25983950 | C6: 26158821 | D6: 26649669 | E6: 26239139 | F6: 26309387 | G6: 26383076 | H6: 26741062 | I6: 27204901 | J6: 27896199 | K6: 28125350 | L6: 27876046 | M6: 27806313
A7: Value of Outstanding Remittances (Shs) | B7: 2909804236 | C7: 2842220643 | D7: 6.4916459e+09 | E7: 966302517 | F7: 1168575453 | G7: 154977965692 | H7: 3070742513 | I7: 372954100 | J7: 1.0770403e+11 | K7: 1174618251 | L7: 555058682 | M7: 657324840
A8: Balance on Customers’ Accounts (Shs) | B8: 1.3430745e+12 | C8: 1.3047095e+12 | D8: 1.2802431e+12 | E8: 1.5279995e+12 | F8: 1.4331097e+12 | G8: 1.3594748e+12 | H8: 1.3075748e+12 | I8: 1.4256253e+12 | J8: 1.4782597e+12 | K8: 1.3863911e+12 | L8: 1.4589168e+12 | M8: 1.5628616e+12
A9: No. of Agents | B9: 487027 | C9: 506527 | D9: 523248 | E9: 533604 | F9: 550864 | G9: 626662 | H9: 635604 | I9: 651529 | J9: 661477 | K9: 673299 | L9: 685125 | M9: 697337
A10: Source: Bank of Uganda

Sheet 2024
B1: MM Statistics - 2024
B2: Jan | C2: Feb | D2: Mar | E2: Apr | F2: May | G2: June | H2: July | I2: Aug | J2: Sept | K2: Oct | L2: Nov | M2: Dec
A3: No. of Transactions | B3: 605903132 | C3: 572122127 | D3: 612826722 | E3: 603557130 | F3: 640033730 | G3: 610874332 | H3: 649065026 | I3: 664411119 | J3: 655491823 | K3: 695817632 | L3: 670236486 | M3: 670239830
A4: Value of Transactions (Shs) | B4: 1.958965e+13 | C4: 2.0657466e+13 | D4: 2.1591792e+13 | E4: 2.1326161e+13 | F4: 2.325671e+13 | G4: 2.2851508e+13 | H4: 2.5455495e+13 | I4: 2.5870527e+13 | J4: 2.5899887e+13 | K4: 2.6286796e+13 | L4: 2.5848929e+13 | M4: 2.7197143e+13
A5: No. of Registered Customers | B5: 44291719 | C5: 44375407 | D5: 44715162 | E5: 45384311 | F5: 45890684 | G5: 46691949 | H5: 47362523 | I5: 48318235 | J5: 48968355 | K5: 49338024 | L5: 49759829 | M5: 50513667
A6: No. of Active Customers (90 Days) | B6: 28737598 | C6: 28582529 | D6: 28949381 | E6: 29141598 | F6: 29630101 | G6: 30085124 | H6: 30296861 | I6: 30954757 | J6: 31580041 | K6: 31723427 | L6: 31620751 | M6: 32127030
A7: Value of Outstanding Remittances (Shs) | B7: 5.1485582e+08 | C7: 4.5046049e+09 | D7: 6223057784 | E7: 4.1139733e+09 | F7: 2.4133132e+09 | G7: 6.8211773e+08 | H7: 3.9560734e+09 | I7: 1.0281778e+09 | J7: 2.7548175e+09 | K7: 7.902678e+08 | L7: 7.8612981e+08 | M7: 5.5186016e+09
A8: Balance on Customers’ Accounts (Shs) | B8: 1.5003852e+12 | C8: 1.6034022e+12 | D8: 1.6266436e+12 | E8: 1.4621171e+12 | F8: 1.528125e+12 | G8: 1.7221633e+12 | H8: 1.6536146e+12 | I8: 1.6866715e+12 | J8: 1.7280189e+12 | K8: 1.7280189e+12 | L8: 1.7808618e+12 | M8: 1.7557707e+12
A9: No. of Agents | B9: 715359 | C9: 723685 | D9: 741458 | E9: 759574 | F9: 783389 | G9: 775294 | H9: 833449 | I9: 858969 | J9: 883343 | K9: 907809 | L9: 929861 | M9: 914556
A10: Source: Bank of Uganda

Sheet 2025
B1: MM Statistics - 2025
B2: Jan | C2: Feb | D2: Mar | E2: Apr | F2: May | G2: June | H2: July | I2: August | J2: September | K2: October | L2: November | M2: December
A3: No. of Transactions | B3: 788563833 | C3: 739907327 | D3: 667069300 | E3: 730965901 | F3: 723485327 | G3: 710927119 | H3: 758463955 | I3: 775783763 | J3: 769530780 | K3: 817007595 | L3: 798209566 | M3: 864479342
A4: Value of Transactions (Shs) | B4: 2.5195632e+13 | C4: 2.6508805e+13 | D4: 2.8479964e+13 | E4: 2.7968363e+13 | F4: 3.1210095e+13 | G4: 3.0274592e+13 | H4: 3.2291647e+13 | I4: 3.1469219e+13 | J4: 3.2420867e+13 | K4: 3.1781023e+13 | L4: 3.1516114e+13 | M4: 3.6760575e+13
A5: No. of Registered Customers | B5: 47444063 | C5: 48875180 | D5: 50475022 | E5: 51727892 | F5: 50183407 | G5: 51078575 | H5: 52285888 | I5: 52995785 | J5: 52880267 | K5: 54494889 | L5: 53623915 | M5: 53632205
A6: No. of Active Customers (90 Days) | B6: 32949586 | C6: 32759256 | D6: 33721530 | E6: 34174159 | F6: 34435214 | G6: 34614691 | H6: 34611240 | I6: 34812122 | J6: 35589192 | K6: 35147380 | L6: 35577945 | M6: 36284228
A7: Value of Outstanding Remittances (Shs) | B7: 4.4338396e+10 | C7: 2.3715829e+10 | D7: 3852125757 | E7: 1.0178734e+11 | F7: 1.5304735e+10 | G7: 1.2885427e+08 | H7: 8.6750131e+08 | I7: 1.200368e+09 | J7: 1.7813134e+09 | K7: 2.7472271e+09 | L7: 1.3852888e+09 | M7: 1.913434e+09
A8: Balance on Customers’ Accounts (Shs) | B8: 1.7281126e+12 | C8: 1.7291836e+12 | D8: 1.6520921e+12 | E8: 1.7362194e+12 | F8: 1.9873899e+12 | G8: 9.4704493e+11 | H8: 9.6595919e+11 | I8: 2.0200525e+12 | J8: 1.9177977e+12 | K8: 1.9717986e+12 | L8: 2.2373917e+12 | M8: 1.9898728e+12
A9: No. of Agents | B9: 958425 | C9: 959132 | D9: 984840 | E9: 1003763 | F9: 1015218 | G9: 1016914 | H9: 1047274 | I9: 1069056 | J9: 1093849 | K9: 1113996 | L9: 1137423 | M9: 1165667
A10: Source: Bank of Uganda

Sheet 2026
B1: MM Statistics - 2026
B2: Jan | C2: Feb | D2: Mar | E2: Apr | F2: May | G2: June | H2: July | I2: August | J2: September | K2: October | L2: November | M2: December
A3: No. of Transactions | B3: 761615086 | C3: 762041418 | D3: 849852312 | E3: 837807427 | F3: 881382435 | G3: 833902920 | H3: 886808505
A4: Value of Transactions (Shs) | B4: 3.0383916e+13 | C4: 3.6463761e+13 | D4: 3.989927e+13 | E4: 3.7750719e+13 | F4: 4.0453962e+13 | G4: 3.9816371e+13 | H4: 3.8194034e+13
A5: No. of Registered Customers | B5: 56273374 | C5: 57562970 | D5: 58675564 | E5: 58621508 | F5: 58445121 | G5: 59451228 | H5: 59837302
A6: No. of Active Customers (90 Days) | B6: 36048257 | C6: 35736543 | D6: 36717916 | E6: 36924935 | F6: 37405948 | G6: 37756476 | H6: 38032336
A7: Value of Outstanding Remittances (Shs) | B7: 6696481040 | C7: 1.1055807e+08 | D7: 94218271 | E7: 1266718890 | F7: 275874389 | G7: 628101315 | H7: 1677795885
A8: Balance on Customers’ Accounts (Shs) | B8: 1.0386944e+12 | C8: 1.0672311e+12 | D8: 1.0781119e+12 | E8: 1.083678e+12 | F8: 1.0597089e+12 | G8: 1.1226865e+12 | H8: 1.7376055e+12
A9: No. of Agents | B9: 1160369 | C9: 1198718 | D9: 1220793 | E9: 1241887 | F9: 1256629 | G9: 1252319 | H9: 1292820
A10: Source: Bank of Uganda
