Workbook
Name PRINT_TITLES_MI: SLF!#REF!
Name PRINT_TITLES_MI: 'T-Bills Matrix 07th Oct 2026'!#REF!
Name PRINT_TITLES_MI: #REF!
Name TBYield1: SLF!#REF!
Name TBYield1: 'T-Bills Matrix 07th Oct 2026'!#REF!
Name TBYieldCurve: SLF!#REF!
Name TBYieldCurve: 'T-Bills Matrix 07th Oct 2026'!#REF!

Sheet T-Bills Matrix  07th Oct 2026
A1: Security Name | B1: Issue Date | C1: Benchmark | D1: Date Due | E1: Days to Maturity | F1: Price | G1: YTM | H1: Face Value | I1: Discount Yield
A2: 1232(3 months) | B2: 46212 | C2: 7 day | D2: 46303 | E2: 1 | F2: 99.97 | G2: 10.8 | H2: 24064700000 | I2: 10.797
A3: 1215(12 months) | B3: 45940 | D3: 46304 | E3: 2 | F3: 99.942 | G3: 10.673 | H3: 314432400000 | I3: 10.667
A4: 1227(6 months) | B4: 46135 | D4: 46317 | E4: 15 | F4: 99.568 | G4: 10.546 | H4: 428589000000 | I4: 10.5
A5: 1233(3 months) | B5: 46240 | D5: 46331 | E5: 29 | F5: 99.179 | G5: 10.418 | H5: 384626300000 | I5: 10.333
A6: 1229(6 months) | B6: 46163 | D6: 46345 | E6: 43 | F6: 98.802 | G6: 10.291 | H6: 286850700000 | I6: 10.168
A7: 1234(3 months) | B7: 46268 | D7: 46359 | E7: 57 | F7: 98.438 | G7: 10.164 | H7: 352391200000 | I7: 10.005
A8: 1230(6 months) | B8: 46178 | D8: 46360 | E8: 58 | F8: 98.43 | G8: 10.037 | H8: 33583100000 | I8: 9.879
A9: 1231(6 months) | B9: 46191 | D9: 46373 | E9: 71 | F9: 98.109 | G9: 9.909 | H9: 492776600000 | I9: 9.722
A10: 1235(3 months) | B10: 46296 | C10: 3 month | D10: 46387 | E10: 85 | F10: 97.773 | G10: 9.782 | H10: 26049500000 | I10: 9.564
A11: 1232(6 months) | B11: 46212 | D11: 46394 | E11: 92 | F11: 97.57 | G11: 9.88 | H11: 67114000000 | I11: 9.64
A12: 1221(12 months) | B12: 46051 | D12: 46415 | E12: 113 | F12: 97.003 | G12: 9.978 | H12: 402057000000 | I12: 9.679
A13: 1233(6 months) | B13: 46240 | D13: 46422 | E13: 120 | F13: 96.794 | G13: 10.076 | H13: 37856100000 | I13: 9.753
A14: 1222(12 months) | B14: 46065 | D14: 46429 | E14: 127 | F14: 96.581 | G14: 10.174 | H14: 277287500000 | I14: 9.826
A15: 1223(12 months) | B15: 46079 | D15: 46443 | E15: 141 | F15: 96.183 | G15: 10.272 | H15: 719229300000 | I15: 9.88
A16: 1234(6 months) | B16: 46268 | D16: 46450 | E16: 148 | F16: 95.965 | G16: 10.37 | H16: 16976800000 | I16: 9.952
A17: 1224(12 months) | B17: 46093 | D17: 46457 | E17: 155 | F17: 95.744 | G17: 10.468 | H17: 112130200000 | I17: 10.022
A18: 1225(12 months) | B18: 46107 | D18: 46471 | E18: 169 | F18: 95.336 | G18: 10.566 | H18: 630293800000 | I18: 10.073
A19: 1235(6 months) | B19: 46296 | C19: 6 month | D19: 46478 | E19: 176 | F19: 95.109 | G19: 10.664 | H19: 19929200000 | I19: 10.142
A20: 1226(12 months) | B20: 46121 | D20: 46485 | E20: 183 | F20: 94.887 | G20: 10.747 | H20: 275644600000 | I20: 10.197
A21: 1227(12 months) | B21: 46135 | D21: 46499 | E21: 197 | F21: 94.478 | G21: 10.829 | H21: 174906100000 | I21: 10.231
A22: 1228(12 months) | B22: 46149 | D22: 46513 | E22: 211 | F22: 94.067 | G22: 10.912 | H22: 260846200000 | I22: 10.264
A23: 1229(12 months) | B23: 46163 | D23: 46527 | E23: 225 | F23: 93.653 | G23: 10.994 | H23: 193083100000 | I23: 10.296
A24: 1230(12 months) | B24: 46178 | D24: 46542 | E24: 240 | F24: 93.211 | G24: 11.077 | H24: 470022400000 | I24: 10.325
A25: 1231(12 months) | B25: 46191 | D25: 46555 | E25: 253 | F25: 92.82 | G25: 11.159 | H25: 235526300000 | I25: 10.358
A26: 1232(12 months) | B26: 46212 | D26: 46576 | E26: 274 | F26: 92.218 | G26: 11.242 | H26: 357054300000 | I26: 10.367
A27: 1233(12 months) | B27: 46240 | D27: 46604 | E27: 302 | F27: 91.433 | G27: 11.324 | H27: 323801000000 | I27: 10.354
A28: 1234(12 months) | B28: 46268 | D28: 46632 | E28: 330 | F28: 90.651 | G28: 11.407 | H28: 441831900000 | I28: 10.34
A29: 1235(12 months) | B29: 46296 | C29: 1 year | D29: 46660 | E29: 358 | F29: 89.873 | G29: 11.489 | H29: 310801100000 | I29: 10.325

Sheet From Access
A1: Security Name | B1: Issue Date | C1: Benchmark | D1: Date Due | E1: Days to Maturity | F1: Price | G1: YTM | H1: Face Value | I1: Discount Yield
A2: 983 (6 months) | B2: 42670 | C2: 1 Day | D2: 42852 | E2: 1 | F2: 99.973569 | G2: 9.65 | H2: 170000000000 | I2: 9.6474494
A3: 990 (3 months) | B3: 42768 | D3: 42859 | E3: 8 | F3: 99.788239 | G3: 9.6820833 | H3: 10000000000 | I3: 9.6615805
A4: 971 (12 months) | B4: 42503 | D4: 42866 | E4: 15 | F4: 99.602375 | G4: 9.7141667 | H4: 150000000000 | I4: 9.6755407
A5: 991 (3 months) | B5: 42783 | D5: 42874 | E5: 23 | F5: 99.389601 | G5: 9.74625 | H5: 10000000000 | I5: 9.686759
A6: 985 (6 months) | B6: 42698 | D6: 42880 | E6: 29 | F6: 99.229081 | G6: 9.7783333 | H6: 200736100000 | I6: 9.7029503
A7: 992 (3 months) | B7: 42796 | D7: 42887 | E7: 36 | F7: 99.04167 | G7: 9.8104167 | H7: 10000000000 | I7: 9.7164005
A8: 986 (6 months) | B8: 42712 | D8: 42894 | E8: 43 | F8: 98.853764 | G8: 9.8425 | H8: 25000000000 | I8: 9.7296817
A9: 973 (12 months) | B9: 42529 | D9: 42895 | E9: 44 | F9: 98.823642 | G9: 9.8745833 | H9: 166391000000 | I9: 9.7584229
A10: 993 (3 months) | B10: 42810 | D10: 42901 | E10: 50 | F10: 98.661092 | G10: 9.9066667 | H10: 10000000000 | I10: 9.7740256
A11: 987 (6 months) | B11: 42726 | D11: 42908 | E11: 57 | F11: 98.471643 | G11: 9.93875 | H11: 254000100000 | I11: 9.7868504
A12: 994 (3 months) | B12: 42824 | D12: 42915 | E12: 64 | F12: 98.28173 | G12: 9.9708333 | H12: 10000000000 | I12: 9.7995075
A13: 988 (6 months) | B13: 42740 | D13: 42922 | E13: 71 | F13: 98.091365 | G13: 10.002917 | H13: 160000000000 | I13: 9.8119975
A14: 995 (3 months) | B14: 42838 | C14: 3 Month | D14: 42929 | E14: 78 | F14: 97.900556 | G14: 10.035 | H14: 10000000000 | I14: 9.8243208
A15: 989 (6 months) | B15: 42754 | D15: 42936 | E15: 85 | F15: 97.683504 | G15: 10.1832 | H15: 160000000000 | I15: 9.9473066
A16: 990 (6 months) | B16: 42768 | D16: 42950 | E16: 99 | F16: 97.274168 | G16: 10.3314 | H16: 160000000000 | I16: 10.049783
A17: 978 (12 months) | B17: 42600 | D17: 42964 | E17: 113 | F17: 96.857582 | G17: 10.4796 | H17: 135000000000 | I17: 10.150287
A18: 991 (6 months) | B18: 42783 | D18: 42965 | E18: 114 | F18: 96.787275 | G18: 10.6278 | H18: 25000000000 | I18: 10.286358
A19: 992 (6 months) | B19: 42796 | D19: 42978 | E19: 127 | F19: 96.386046 | G19: 10.776 | H19: 160000000000 | I19: 10.38656
A20: 984 (3 months) | B20: 42683 | D20: 42980 | E20: 129 | F20: 96.282641 | G20: 10.9242 | H20: 10000000000 | I20: 10.518108
A21: 984 (12 months) | B21: 42683 | D21: 42989 | E21: 138 | F21: 95.98193 | G21: 11.0724 | H21: 130000000000 | I21: 10.627503
A22: 993 (6 months) | B22: 42810 | D22: 42992 | E22: 141 | F22: 95.845543 | G22: 11.2206 | H22: 155000000000 | I22: 10.754445
A23: 994 (6 months) | B23: 42824 | D23: 43006 | E23: 155 | F23: 95.3945 | G23: 11.3688 | H23: 353000000000 | I23: 10.84521
A24: 995 (6 months) | B24: 42838 | C24: 6 Month | D24: 43020 | E24: 169 | F24: 94.937434 | G24: 11.517 | H24: 155000000000 | I24: 10.933944
A25: 983 (12 months) | B25: 42670 | D25: 43034 | E25: 183 | F25: 94.464033 | G25: 11.688769 | H25: 130000000000 | I25: 11.041683
A26: 984 (6 months) | B26: 42683 | D26: 43044 | E26: 193 | F26: 94.098639 | G26: 11.860538 | H26: 25000000000 | I26: 11.160605
A27: 985 (12 months) | B27: 42698 | D27: 43062 | E27: 211 | F27: 93.496686 | G27: 12.032308 | H27: 130000000000 | I27: 11.249809
A28: 986 (12 months) | B28: 42712 | D28: 43076 | E28: 225 | F28: 93.003305 | G28: 12.204077 | H28: 130000000000 | I28: 11.350195
A29: 987 (12 months) | B29: 42726 | D29: 43090 | E29: 239 | F29: 92.503826 | G29: 12.375846 | H29: 130000000000 | I29: 11.448131
A30: 988 (12 months) | B30: 42740 | D30: 43104 | E30: 253 | F30: 91.998531 | G30: 12.547615 | H30: 130000000000 | I30: 11.543622
A31: 989 (12 months) | B31: 42754 | D31: 43118 | E31: 267 | F31: 91.487695 | G31: 12.719385 | H31: 130000000000 | I31: 11.636672
A32: 990 (12 months) | B32: 42768 | D32: 43132 | E32: 281 | F32: 90.971595 | G32: 12.891154 | H32: 130000000000 | I32: 11.727288
A33: 991 (12 months) | B33: 42783 | D33: 43147 | E33: 296 | F33: 90.421232 | G33: 13.062923 | H33: 130000000000 | I33: 11.811656
A34: 992 (12 months) | B34: 42796 | D34: 43160 | E34: 309 | F34: 89.92469 | G34: 13.234692 | H34: 130000000000 | I34: 11.901256
A35: 993 (12 months) | B35: 42810 | D35: 43174 | E35: 323 | F35: 89.394424 | G35: 13.406462 | H35: 130000000000 | I35: 11.984629
A36: 994 (12 months) | B36: 42824 | D36: 43188 | E36: 337 | F36: 88.859969 | G36: 13.578231 | H36: 130000000000 | I36: 12.065612
A37: 995 (12 months) | B37: 42838 | C37: 1 Year | D37: 43202 | E37: 351 | F37: 88.321587 | G37: 13.75 | H37: 130000000000 | I37: 12.144218

Sheet TBills as at 07th Oct 2026
A1: Maturity Date | B1: YTM
A2: 46303 | B2: 10.8
A3: 46304 | B3: 10.673
A4: 46317 | B4: 10.546
A5: 46331 | B5: 10.418
A6: 46345 | B6: 10.291
A7: 46359 | B7: 10.164
A8: 46360 | B8: 10.037
A9: 46373 | B9: 9.909
A10: 46387 | B10: 9.782
A11: 46394 | B11: 9.88
A12: 46415 | B12: 9.978
A13: 46422 | B13: 10.076
... A29: 46660 | B29: 11.489

Sheet SLF
A1: Date Due | B1: Price | C1: FV | D1: MV | E1: 0.045 Haircut | H1: Bank | I1: Total FV | J1: Total MV | K1: Total Amount to Borrow
A2: =+'T-Bills Matrix 07th Oct 2026'!#REF! -> #REF! | B2: =+'T-Bills Matrix 07th Oct 2026'!#REF! -> #REF! | D2: =+C2*B2/100 -> #REF! | E2: =+D2*0.955 -> #REF! | I2: =SUM(C2:C1048576) -> 0 | J2: =SUM(D2:D1048576) -> #REF! | K2: =SUM(E2:E1048576) -> #REF!
A3: =+'T-Bills Matrix 07th Oct 2026'!#REF! -> #REF! | B3: =+'T-Bills Matrix 07th Oct 2026'!#REF! -> #REF! | D3: =+C3*B3/100 -> #REF! | E3: =+D3*0.955 -> #REF!
A4: =+'T-Bills Matrix 07th Oct 2026'!#REF! -> #REF! | B4: =+'T-Bills Matrix 07th Oct 2026'!#REF! -> #REF! | D4: =+C4*B4/100 -> #REF! | E4: =+D4*0.955 -> #REF!
A5: =+'T-Bills Matrix 07th Oct 2026'!#REF! -> #REF! | B5: =+'T-Bills Matrix 07th Oct 2026'!#REF! -> #REF! | D5: =+C5*B5/100 -> #REF! | E5: =+D5*0.955 -> #REF!
A6: =+'T-Bills Matrix 07th Oct 2026'!#REF! -> #REF! | B6: =+'T-Bills Matrix 07th Oct 2026'!#REF! -> #REF! | D6: =+C6*B6/100 -> #REF! | E6: =+D6*0.955 -> #REF!
A7: =+'T-Bills Matrix 07th Oct 2026'!#REF! -> #REF! | B7: =+'T-Bills Matrix 07th Oct 2026'!#REF! -> #REF! | D7: =+C7*B7/100 -> #REF! | E7: =+D7*0.955 -> #REF! | H7: =4.5/100 -> 0.045
A8: =+'T-Bills Matrix 07th Oct 2026'!#REF! -> #REF! | B8: =+'T-Bills Matrix 07th Oct 2026'!#REF! -> #REF! | D8: =+C8*B8/100 -> #REF! | E8: =+D8*0.955 -> #REF! | H8: =1-H7 -> 0.955
A9: =+'T-Bills Matrix 07th Oct 2026'!#REF! -> #REF! | B9: =+'T-Bills Matrix 07th Oct 2026'!#REF! -> #REF! | D9: =+C9*B9/100 -> #REF! | E9: =+D9*0.955 -> #REF!
A10: =+'T-Bills Matrix 07th Oct 2026'!#REF! -> #REF! | B10: =+'T-Bills Matrix 07th Oct 2026'!#REF! -> #REF! | D10: =+C10*B10/100 -> #REF! | E10: =+D10*0.955 -> #REF!
A11: =+'T-Bills Matrix 07th Oct 2026'!#REF! -> #REF! | B11: =+'T-Bills Matrix 07th Oct 2026'!#REF! -> #REF! | D11: =+C11*B11/100 -> #REF! | E11: =+D11*0.955 -> #REF!
A12: =+'T-Bills Matrix 07th Oct 2026'!D2 -> 46303 | B12: =+'T-Bills Matrix 07th Oct 2026'!F2 -> 99.97 | D12: =+C12*B12/100 -> 0 | E12: =+D12*0.955 -> 0
A13: =+'T-Bills Matrix 07th Oct 2026'!D3 -> 46304 | B13: =+'T-Bills Matrix 07th Oct 2026'!F3 -> 99.942 | D13: =+C13*B13/100 -> 0 | E13: =+D13*0.955 -> 0
A14: =+'T-Bills Matrix 07th Oct 2026'!D4 -> 46317 | B14: =+'T-Bills Matrix 07th Oct 2026'!F4 -> 99.568 | D14: =+C14*B14/100 -> 0 | E14: =+D14*0.955 -> 0
A15: =+'T-Bills Matrix 07th Oct 2026'!D5 -> 46331 | B15: =+'T-Bills Matrix 07th Oct 2026'!F5 -> 99.179 | D15: =+C15*B15/100 -> 0 | E15: =+D15*0.955 -> 0
A16: =+'T-Bills Matrix 07th Oct 2026'!D6 -> 46345 | B16: =+'T-Bills Matrix 07th Oct 2026'!F6 -> 98.802 | D16: =+C16*B16/100 -> 0 | E16: =+D16*0.955 -> 0
A17: =+'T-Bills Matrix 07th Oct 2026'!D7 -> 46359 | B17: =+'T-Bills Matrix 07th Oct 2026'!F7 -> 98.438 | D17: =+C17*B17/100 -> 0 | E17: =+D17*0.955 -> 0
A18: =+'T-Bills Matrix 07th Oct 2026'!D8 -> 46360 | B18: =+'T-Bills Matrix 07th Oct 2026'!F8 -> 98.43 | D18: =+C18*B18/100 -> 0 | E18: =+D18*0.955 -> 0
A19: =+'T-Bills Matrix 07th Oct 2026'!D9 -> 46373 | B19: =+'T-Bills Matrix 07th Oct 2026'!F9 -> 98.109 | D19: =+C19*B19/100 -> 0 | E19: =+D19*0.955 -> 0
A20: =+'T-Bills Matrix 07th Oct 2026'!D10 -> 46387 | B20: =+'T-Bills Matrix 07th Oct 2026'!F10 -> 97.773 | D20: =+C20*B20/100 -> 0 | E20: =+D20*0.955 -> 0
A21: =+'T-Bills Matrix 07th Oct 2026'!D11 -> 46394 | B21: =+'T-Bills Matrix 07th Oct 2026'!F11 -> 97.57 | D21: =+C21*B21/100 -> 0 | E21: =+D21*0.955 -> 0
A22: =+'T-Bills Matrix 07th Oct 2026'!D12 -> 46415 | B22: =+'T-Bills Matrix 07th Oct 2026'!F12 -> 97.003 | D22: =+C22*B22/100 -> 0 | E22: =+D22*0.955 -> 0
A23: =+'T-Bills Matrix 07th Oct 2026'!D13 -> 46422 | B23: =+'T-Bills Matrix 07th Oct 2026'!F13 -> 96.794 | D23: =+C23*B23/100 -> 0 | E23: =+D23*0.955 -> 0
... A35: =+'T-Bills Matrix 07th Oct 2026'!D25 -> 46555 | B35: =+'T-Bills Matrix 07th Oct 2026'!F25 -> 92.82 | D35: =+C35*B35/100 -> 0 | E35: =+D35*0.955 -> 0
A36: =+'T-Bills Matrix 07th Oct 2026'!#REF! -> #REF! | B36: =+'T-Bills Matrix 07th Oct 2026'!#REF! -> #REF! | D36: =+C36*B36/100 -> #REF! | E36: =+D36*0.955 -> #REF!
A37: =+'T-Bills Matrix 07th Oct 2026'!D26 -> 46576 | B37: =+'T-Bills Matrix 07th Oct 2026'!F26 -> 92.218 | D37: =+C37*B37/100 -> 0 | E37: =+D37*0.955 -> 0
A38: =+'T-Bills Matrix 07th Oct 2026'!#REF! -> #REF! | B38: =+'T-Bills Matrix 07th Oct 2026'!#REF! -> #REF! | D38: =+C38*B38/100 -> #REF! | E38: =+D38*0.955 -> #REF!
A39: =+'T-Bills Matrix 07th Oct 2026'!#REF! -> #REF! | B39: =+'T-Bills Matrix 07th Oct 2026'!#REF! -> #REF! | D39: =+C39*B39/100 -> #REF! | E39: =+D39*0.955 -> #REF!
A40: =+'T-Bills Matrix 07th Oct 2026'!#REF! -> #REF! | B40: =+'T-Bills Matrix 07th Oct 2026'!#REF! -> #REF! | D40: =+C40*B40/100 -> #REF! | E40: =+D40*0.955 -> #REF!
A41: =+'T-Bills Matrix 07th Oct 2026'!#REF! -> #REF! | B41: =+'T-Bills Matrix 07th Oct 2026'!#REF! -> #REF! | D41: =+C41*B41/100 -> #REF! | E41: =+D41*0.955 -> #REF!
A42: =+'T-Bills Matrix 07th Oct 2026'!#REF! -> #REF! | B42: =+'T-Bills Matrix 07th Oct 2026'!#REF! -> #REF! | D42: =+C42*B42/100 -> #REF! | E42: =+D42*0.955 -> #REF!
A43: =+'T-Bills Matrix 07th Oct 2026'!#REF! -> #REF! | B43: =+'T-Bills Matrix 07th Oct 2026'!#REF! -> #REF! | D43: =+C43*B43/100 -> #REF! | E43: =+D43*0.955 -> #REF!
A44: =+'T-Bills Matrix 07th Oct 2026'!#REF! -> #REF! | B44: =+'T-Bills Matrix 07th Oct 2026'!#REF! -> #REF! | D44: =+C44*B44/100 -> #REF! | E44: =+D44*0.955 -> #REF!
A45: =+'T-Bills Matrix 07th Oct 2026'!#REF! -> #REF! | B45: =+'T-Bills Matrix 07th Oct 2026'!#REF! -> #REF! | D45: =+C45*B45/100 -> #REF! | E45: =+D45*0.955 -> #REF!
A46: =+'T-Bills Matrix 07th Oct 2026'!#REF! -> #REF! | B46: =+'T-Bills Matrix 07th Oct 2026'!#REF! -> #REF! | D46: =+C46*B46/100 -> #REF! | E46: =+D46*0.955 -> #REF!
A47: =+'T-Bills Matrix 07th Oct 2026'!#REF! -> #REF! | B47: =+'T-Bills Matrix 07th Oct 2026'!#REF! -> #REF! | D47: =+C47*B47/100 -> #REF! | E47: =+D47*0.955 -> #REF!
A48: =+'T-Bills Matrix 07th Oct 2026'!#REF! -> #REF! | B48: =+'T-Bills Matrix 07th Oct 2026'!#REF! -> #REF! | D48: =+C48*B48/100 -> #REF! | E48: =+D48*0.955 -> #REF!
A49: =+'T-Bills Matrix 07th Oct 2026'!#REF! -> #REF! | B49: =+'T-Bills Matrix 07th Oct 2026'!#REF! -> #REF! | D49: =+C49*B49/100 -> #REF! | E49: =+D49*0.955 -> #REF!
... A119: =+'T-Bills Matrix 07th Oct 2026'!#REF! -> #REF! | B119: =+'T-Bills Matrix 07th Oct 2026'!#REF! -> #REF! | D119: =+C119*B119/100 -> #REF! | E119: =+D119*0.955 -> #REF!
A120: =+'T-Bills Matrix 07th Oct 2026'!D27 -> 46604 | B120: =+'T-Bills Matrix 07th Oct 2026'!F27 -> 91.433 | D120: =+C120*B120/100 -> 0 | E120: =+D120*0.955 -> 0
A121: =+'T-Bills Matrix 07th Oct 2026'!D28 -> 46632 | B121: =+'T-Bills Matrix 07th Oct 2026'!F28 -> 90.651 | D121: =+C121*B121/100 -> 0 | E121: =+D121*0.955 -> 0
A122: =+'T-Bills Matrix 07th Oct 2026'!D29 -> 46660 | B122: =+'T-Bills Matrix 07th Oct 2026'!F29 -> 89.873 | D122: =+C122*B122/100 -> 0 | E122: =+D122*0.955 -> 0
A123: =+'T-Bills Matrix 07th Oct 2026'!D30 -> 0 | B123: =+'T-Bills Matrix 07th Oct 2026'!F30 -> 0 | D123: =+C123*B123/100 -> 0 | E123: =+D123*0.955 -> 0
A124: =+'T-Bills Matrix 07th Oct 2026'!D31 -> 0 | B124: =+'T-Bills Matrix 07th Oct 2026'!F31 -> 0 | D124: =+C124*B124/100 -> 0 | E124: =+D124*0.955 -> 0
A125: =+'T-Bills Matrix 07th Oct 2026'!D32 -> 0 | B125: =+'T-Bills Matrix 07th Oct 2026'!F32 -> 0 | D125: =+C125*B125/100 -> 0 | E125: =+D125*0.955 -> 0
A126: =+'T-Bills Matrix 07th Oct 2026'!D33 -> 0 | B126: =+'T-Bills Matrix 07th Oct 2026'!F33 -> 0 | D126: =+C126*B126/100 -> 0 | E126: =+D126*0.955 -> 0
A127: =+'T-Bills Matrix 07th Oct 2026'!D34 -> 0 | B127: =+'T-Bills Matrix 07th Oct 2026'!F34 -> 0 | D127: =+C127*B127/100 -> 0 | E127: =+D127*0.955 -> 0
A128: =+'T-Bills Matrix 07th Oct 2026'!D35 -> 0 | B128: =+'T-Bills Matrix 07th Oct 2026'!F35 -> 0 | D128: =+C128*B128/100 -> 0 | E128: =+D128*0.955 -> 0
A129: =+'T-Bills Matrix 07th Oct 2026'!D36 -> 0 | B129: =+'T-Bills Matrix 07th Oct 2026'!F36 -> 0 | D129: =+C129*B129/100 -> 0 | E129: =+D129*0.955 -> 0
A130: =+'T-Bills Matrix 07th Oct 2026'!D37 -> 0 | B130: =+'T-Bills Matrix 07th Oct 2026'!F37 -> 0 | D130: =+C130*B130/100 -> 0 | E130: =+D130*0.955 -> 0
A131: =+'T-Bills Matrix 07th Oct 2026'!D38 -> 0 | B131: =+'T-Bills Matrix 07th Oct 2026'!F38 -> 0 | D131: =+C131*B131/100 -> 0 | E131: =+D131*0.955 -> 0
... A149: =+'T-Bills Matrix 07th Oct 2026'!D56 -> 0 | B149: =+'T-Bills Matrix 07th Oct 2026'!F56 -> 0 | D149: =+C149*B149/100 -> 0 | E149: =+D149*0.955 -> 0

Sheet Sheet1
A1: Security Name | B1: Issue Date | C1: Date Due | D1: DTM | E1: Price | F1: YTM
A2: 1070 (6 months) | B2: 43916 | C2: 44098 | D2: 28 | E2: 99.43121 | F2: 7.457
A3: 1072 (6 months) | B3: 43944 | C3: 44126 | D3: 56 | E3: 98.777554 | F3: 8.0663333
