Workbook

Sheet Price Matrix 16th Oct 2026
F1: ISIN | G1: Issue date | H1: ISIN | I1: ISIN | J1: Issue date | K1: ISIN | L1: ISIN | M1: ISIN | N1: Issue date | O1: Tenor at Issue | Q1: Coupon | R1: Date due | S1: Macaulay's Duration | T1: Modified Duration | U1: Price Value of Basis Pt | V1: Dirty Price | W1: Clean Price | X1: Average YTM | Y1: Face Value
F2: UG12J1812252 | G2: 42452 | H2: UG12J1812252 | J2: 45883 | N2: 46135 | O2: 1227(6 months) | P2: 7 day | R2: 46317 | S2: 0.016 | T2: 0.016 | U2: 0 | V2: 99.805 | W2: 99.805 | X2: 12.2 | Y2: 428589000000
G3: 45841 | I3: UG12J1812252 | J3: 42452 | K3: UG12J1812252 | L3: UG12J1812252 | N3: 46296 | O3: 1235(3 months) | P3: 3 month | R3: 46387 | S3: 0.209 | T3: 0.198 | U3: 0.002 | V3: 97.775 | W3: 97.775 | X3: 11.075 | Y3: 26049500000
G4: 45841 | H4: UG12G0907265 | J4: 45883 | N4: 46296 | O4: 1235(6 months) | P4: 6 month | R4: 46478 | S4: 0.459 | T4: 0.433 | U4: 0.004 | V4: 94.802 | W4: 94.802 | X4: 11.979 | Y4: 19929200000
F5: UG12G0907265 | G5: 45120 | I5: UG12G0907265 | J5: 45120 | K5: UG12G0907265 | L5: UG12G0907265 | M5: UG12J0605277 | N5: 43013 | O5: UG12J0605277 16.000% 06-MAY-2027 | Q5: 0.16 | R5: 46513 | S5: 0.518 | T5: 0.488 | U5: 0.005 | V5: 109.001 | W5: 101.881 | X5: 12.345 | Y5: 1042709800000
F6: UG12J2708269 | G6: 42620 | H6: UG12J2708269 | J6: 45887 | L6: UG12J2708269 | N6: 46296 | O6: 1235(12 months) | P6: 1 year | R6: 46660 | S6: 0.959 | T6: 0.901 | U6: 0.008 | V6: 88.856 | W6: 88.856 | X6: 12.711 | Y6: 310801100000
F7: UG12J0605277 | G7: 43013 | H7: UG12J0605277 | I7: UG12J2708269 | J7: 42620 | K7: UG12J2708269 | M7: UG12J1301280 | N7: 43181 | O7: UG12JI301280 14.125% 13-JAN-2028 | Q7: 0.1413 | R7: 46765 | S7: 1.151 | T7: 1.079 | U7: 0.011 | V7: 104.447 | W7: 100.877 | X7: 13.288 | Y7: 3687830700000
F8: UG12J1301280 | G8: 43181 | H8: UG12J1301280 | I8: UG12J0605277 | J8: 43013 | K8: UG12J0605277 | L8: UG12J0605277 | M8: UG12G0607287 | N8: 45848 | O8: UG12G0607287 15.550% 06-JUL-2028 | Q8: 0.1555 | R8: 46940 | S8: 1.525 | T8: 1.426 | U8: 0.015 | V8: 106.676 | W8: 102.447 | X8: 13.866 | Y8: 2235992600000
F9: UG0000001376 | G9: 41612 | H9: UG0000001376 | I9: UG12J1301280 | J9: 43181 | K9: UG12J1301280 | L9: UG12J1301280 | M9: UG0000001376 | N9: 41612 | O9: 15.250% 16-NOV-2028 | P9: 2 year | Q9: 0.1525 | R9: 47073 | S9: 1.766 | T9: 1.647 | U9: 0.017 | V9: 107.575 | W9: 101.374 | X9: 14.443 | Y9: 899721500000
F10: UG0000001533 | G10: 43293 | H10: UG0000001533 | I10: UG12G0607287 | J10: 45848 | K10: UG12G0607287 | L10: UG12G0607287 | M10: UG0000001533 | N10: 43293 | O10: UG0000001327 14.250% 23-AUG-2029 | Q10: 0.1425 | R10: 47353 | S10: 2.403 | T10: 2.239 | U10: 0.022 | V10: 100.974 | W10: 99.016 | X10: 14.661 | Y10: 4756820600000
F11: UG12J1909298 | G11: 43740 | H11: UG12J1909298 | I11: UG0000001376 | J11: 41612 | K11: UG0000001376 | L11: UG0000001376 | M11: UG1250609291 | N11: 46275 | O11: UG12G0609291 12.000% 06-SEP-2029 | P11: 3 year | Q11: 0.12 | R11: 47367 | S11: 2.491 | T11: 2.319 | U11: 0.022 | V11: 94.563 | W11: 93.377 | X11: 14.879 | Y11: 249041200000
F12: UG12K0205308 | G12: 42313 | H12: UG12K0205308 | I12: UG0000001533 | J12: 43293 | K12: UG0000001533 | L12: UG0000001533 | M12: UG12J1909298 | N12: 43740 | O12: UG12J1909298 14.375% 19-SEP-2029 | Q12: 0.1438 | R12: 47380 | S12: 2.473 | T12: 2.3 | U12: 0.023 | V12: 99.408 | W12: 98.499 | X12: 15.013 | Y12: 1306496600000
F13: UG12J1411303 | G13: 44161 | H13: UG12J1411303 | I13: UG12J1909298 | J13: 43740 | K13: UG12J1909298 | L13: UG12J1909298 | M13: UG12K0205308 | N13: 42313 | O13: UG0000001533 02-MAY-2030 | Q13: 0.175 | R13: 47605 | S13: 2.627 | T13: 2.442 | U13: 0.026 | V13: 114.046 | W13: 106.258 | X13: 15.147 | Y13: 282271000000
F14: UG12K0304317 | G14: 42481 | H14: UG12K0304317 | I14: UG12K0205308 | J14: 42313 | K14: UG12K0205308 | L14: UG12K0205308 | M14: UG12H0108300 | N14: 45876 | O14: UG12H0108300 15.500% 01-Aug-2030 | Q14: 0.155 | R14: 47696 | S14: 2.934 | T14: 2.725 | U14: 0.027 | V14: 103.569 | W14: 100.546 | X14: 15.281 | Y14: 983458000000
F15: UG12K0403325 | G15: 43069 | H15: UG12K0403325 | I15: UG12H0108300 | J15: 45876 | K15: UG12H0108300 | L15: UG12H0108300 | M15: UG12J1411303 | N15: 44161 | O15: UG12J1411303 16.00% 14-Nov-2030 | Q15: 0.16 | R15: 47801 | S15: 2.978 | T15: 2.765 | U15: 0.028 | V15: 108.187 | W15: 101.681 | X15: 15.416 | Y15: 503189000000
F16: UG12J2005328 | G16: 44714 | H16: UG12J2005328 | I16: UG12J1411303 | J16: 44161 | K16: UG12J1411303 | L16: UG12J1411303 | M16: UG12K0304317 | N16: 42481 | O16: 17.00% 03-APR-2031 | Q16: 0.17 | R16: 47941 | S16: 3.326 | T16: 3.086 | U16: 0.032 | V16: 104.917 | W16: 104.544 | X16: 15.55 | Y16: 1848019800000
F17: UG12K0302337 | G17: 43153 | H17: UG12K0302337 | I17: UG12K0304317 | J17: 42481 | K17: UG12K0304317 | L17: UG12K0304317 | M17: UG12K0403325 | N17: 43069 | O17: UG12K0403325 16.375% 04MAR32R2 | Q17: 0.1638 | R17: 48277 | S17: 3.75 | T17: 3.477 | U17: 0.036 | V17: 104.028 | W17: 102.408 | X17: 15.684 | Y17: 1010290800000
F18: UG12K2206346 | G18: 43657 | H18: UG12K2206346 | I18: UG12K0403325 | J18: 43069 | K18: UG12K0403325 | L18: UG12K0403325 | M18: UG12J2005328 | N18: 44714 | O18: UG12J2005328 15.000% 20-May-2032 | P18: 5 year | Q18: 0.15 | R18: 48354 | S18: 3.739 | T18: 3.465 | U18: 0.034 | V18: 102.789 | W18: 96.979 | X18: 15.818 | Y18: 2712682300000
F19: UG12K0811352 | G19: 44161 | H19: UG12K0811352 | I19: UG12J2005328 | J19: 44714 | K19: UG12J2005328 | L19: UG12J2005328 | M19: UG12K0302337 | N19: 43153 | O19: 14.375% 03-FEB-2033 | Q19: 0.1438 | R19: 48613 | S19: 4.177 | T19: 3.866 | U19: 0.036 | V19: 95.817 | W19: 93.289 | X19: 16.089 | Y19: 2573902600000
F20: UG12K1405378 | G20: 44714 | H20: UG12K1405378 | I20: UG12K0302337 | J20: 43153 | K20: UG12K0302337 | L20: UG12K0302337 | M20: UG12J2605341 | N20: 49102 | O20: UG12J2605341 16.400% 26-May-2034 | Q20: 0.164 | R20: 49090 | S20: 4.366 | T20: 4.035 | U20: 0.04 | V20: 106.104 | W20: 100.111 | X20: 16.359 | Y20: 489547900000
F21: UG12K2306393 | G21: 45484 | H21: UG12K2306393 | I21: UG12J2605341 | J21: 12577 | K21: UG12J2605341 | L21: UG12J2605341 | M21: UG12K2206346 | N21: 43657 | O21: UG12K2206346 14.250% 22-JUNE-2034 | Q21: 0.1425 | R21: 49117 | S21: 4.554 | T21: 4.205 | U21: 0.038 | V21: 93.948 | W21: 89.798 | X21: 16.63 | Y21: 4613319700000
F22: UG12L0111405 | G22: 44161 | H22: UG12L0111405 | I22: UG12K2206346 | J22: 43657 | K22: UG12K2206346 | L22: UG12K2206346 | M22: UG12K0811352 | N22: 44161 | O22: UG12K0811352 16.250% 8-Nov-2035 | P22: 10 year | Q22: 0.1625 | R22: 49621 | S22: 4.674 | T22: 4.31 | U22: 0.042 | V22: 103.59 | W22: 96.983 | X22: 16.9 | Y22: 5229027800000
F23: UG12L0805428 | G23: 44714 | H23: UG12L0805428 | I23: UG12K0811352 | J23: 44161 | K23: UG12K0811352 | L23: UG12K0811352 | M23: UG12K1405378 | N23: 44714 | O23: UG12K1405378 16.000% 14-May-2037 | Q23: 0.16 | R23: 50174 | S23: 5.004 | T23: 4.614 | U23: 0.044 | V23: 101.721 | W23: 95.524 | X23: 16.91 | Y23: 4223814000000
F24: UG12L1408420 | G24: 44812 | H24: UG12L1408420 | I24: UG12K1405378 | J24: 44714 | K24: UG12K1405378 | L24: UG12K1405378 | M24: UG12K2306393 | N24: 45484 | O24: UG12K2306393 15.800% 23-June-2039 | Q24: 0.158 | R24: 50944 | S24: 5.425 | T24: 5.002 | U24: 0.047 | V24: 98.438 | W24: 94.141 | X24: 16.92 | Y24: 8716716200000
F25: UG12L1806433 | G25: 45120 | H25: UG12L1806433 | I25: UG12K2306393 | J25: 45484 | K25: UG12K2306393 | L25: UG12K2306393 | M25: UG12L0111405 | N25: 44161 | O25: UG12L0111405 17.500% 01-Nov-2040 | Q25: 0.175 | R25: 51441 | S25: 5.366 | T25: 4.947 | U25: 0.051 | V25: 110.091 | W25: 102.976 | X25: 16.929 | Y25: 2606354700000
I26: UG12L0111405 | J26: 44161 | K26: UG12L0111405 | L26: UG12L0111405 | M26: UG12K0509410 | N26: 46289 | O26: UG12K0509410 15.250% 06-SEP-2041 | P26: 15 year | Q26: 0.1525 | R26: 51750 | S26: 5.875 | T26: 5.416 | U26: 0.049 | V26: 91.756 | W26: 90.876 | X26: 16.939 | Y26: 89357600000
I27: UG12L0805428 | J27: 44714 | K27: UG12L0805428 | L27: UG12L0805428 | M27: UG12L0805428 | N27: 44714 | O27: UG12L0805428 17.750% 08-May-2042 | Q27: 0.1775 | R27: 51994 | S27: 5.502 | T27: 5.072 | U27: 0.053 | V27: 111.085 | W27: 104.209 | X27: 16.963 | Y27: 892120000000
I28: UG12L1408420 | J28: 44812 | K28: UG12L1408420 | L28: UG12L1408420 | M28: UG12L1408420 | N28: 44812 | O28: UG12L1408420 18.500 % 14-AUG-2042 | Q28: 0.185 | R28: 52092 | S28: 5.737 | T28: 5.288 | U28: 0.057 | V28: 110.353 | W28: 108.168 | X28: 16.988 | Y28: 1230040800000
M29: UG12L1806433 | N29: 45120 | O29: UG12L1806433 15.000% 18-June-2043 | Q29: 0.15 | R29: 52400 | S29: 5.8 | T29: 5.345 | U29: 0.048 | V29: 92.948 | W29: 88.869 | X29: 17.012 | Y29: 10239994800000
M30: UG12L1608466 | N30: 46275 | O30: UG12L1608466 15.000% 16-AUG-2046 | P30: 20 year | Q30: 0.15 | R30: 53555 | S30: 6.1 | T30: 5.621 | U30: 0.05 | V30: 89.946 | W30: 88.462 | X30: 17.036 | Y30: 105003700000
M31: UG12M0707507 | N31: 45876 | O31: UG12M0707507 16.000% 07-Jul-2050 | P31: 25 year | Q31: 0.16 | R31: 18451 | S31: 6.026 | T31: 5.549 | U31: 0.052 | V31: 96.241 | W31: 93.12 | X31: 17.193 | Y31: 2481228800000

Sheet Price 28th 
A1: Actual/364 Bond Pricing Spread Sheet
G4: Cost
A5: Maturity | B5: 43097 | C5: =B5 -> 43097 | E5: =B11 -> #REF! | F5: All-in Price | G5: Face Value | I5: =H5/B8 -> 0
A6: Coupon | B6: 0.1075 | E6: =B18 -> 49615.385 | F6: Accrued Interest
A7: YTM | B7: =+'Price Matrix 16th Oct 2026'!#REF! -> #REF! | E7: =(E5-E6)-B8 -> #REF! | F7: Premium
A8: Nominal | B8: 1000000
A9: Settlement | B9: 41991 | C9: =B9 -> 41991 | M9: 93.688034
E10: =B5-B9 -> 1106 | F10: Days to maturity | L10: 43097
A11: All-in Cost | B11: =SUM(F22:F80) -> #REF!
A12: All-in Price | B12: =B11/B8*100 -> #REF! | E12: =-E7/E10 -> #REF! | F12: Daily Premium Write-off | I12: =B9-I13 -> -14 | O12: =13.75-13.513 -> 0.237
D13: ` | E13: =B8*B6/364 -> 295.32967 | F13: Daily Interest Accrual | I13: =MIN(I22:I80) -> 42005 | K13: =SUM(K22:K28) -> #REF! | O13: =14.25-14.094 -> 0.156
A14: Accrued Interest | B14: =B18/B8*100 -> 4.9615385
A15: Clean Price | B15: =B12-B14 -> #REF! | C15: =B15+B14 -> #REF!
A17: Accred Interest | B17: =IF(I17>=181,0,I17+1) -> 168 | C17: days | F17: =-PV(B7/2,6,0.05125,100) -> #REF! | I17: =181+I12 -> 167
A18: Accrued | B18: =B8*B6/2*B17/182 -> 49615.385
A20: Dates | B20: Cashflow | C20: Days to cashflow | D20: Periods | E20: PV | G20: Date calc
A22: =B5 -> 43097 | B22: =B8+$B$6/2*$B$8 -> 1053750 | C22: =IF(A22-$B$9<0,0,A22-$B$9) -> 1106 | D22: =C22/182 -> 6.0769231 | E22: =IF(D22<0,0,F22) -> #REF! | F22: =B22/(1+$B$7/2)^D22 -> #REF! | G22: =IF($B$9>=A22,0,1) -> 1 | I22: =IF(A22>0,A22,1E+27) -> 43097 | J22: 7 | K22: =B22/(1+$B$7/2)^J22 -> #REF!
A23: =IF(A22-182<$B$9,0,A22-182) -> 42915 | B23: =IF(G23=0,0,$B$6/2*$B$8) -> 53750 | C23: =IF(A23-$B$9<0,0,A23-$B$9) -> 924 | D23: =C23/182 -> 5.0769231 | E23: =IF(D23<0,0,F23) -> #REF! | F23: =B23/(1+$B$7/2)^D23 -> #REF! | G23: =IF($B$9>=A23,0,1) -> 1 | I23: =IF(A23>0,A23,1E+27) -> 42915 | J23: 6 | K23: =B23/(1+$B$7/2)^J23 -> #REF!
A24: =IF(A23-182<$B$9,0,A23-182) -> 42733 | B24: =IF(G24=0,0,$B$6/2*$B$8) -> 53750 | C24: =IF(A24-$B$9<0,0,A24-$B$9) -> 742 | D24: =C24/182 -> 4.0769231 | E24: =IF(D24<0,0,F24) -> #REF! | F24: =B24/(1+$B$7/2)^D24 -> #REF! | G24: =IF($B$9>=A24,0,1) -> 1 | I24: =IF(A24>0,A24,1E+27) -> 42733 | J24: 5 | K24: =B24/(1+$B$7/2)^J24 -> #REF!
A25: =IF(A24-182<$B$9,0,A24-182) -> 42551 | B25: =IF(G25=0,0,$B$6/2*$B$8) -> 53750 | C25: =IF(A25-$B$9<0,0,A25-$B$9) -> 560 | D25: =C25/182 -> 3.0769231 | E25: =IF(D25<0,0,F25) -> #REF! | F25: =B25/(1+$B$7/2)^D25 -> #REF! | G25: =IF($B$9>=A25,0,1) -> 1 | I25: =IF(A25>0,A25,1E+27) -> 42551 | J25: 4 | K25: =B25/(1+$B$7/2)^J25 -> #REF!
A26: =IF(A25-182<$B$9,0,A25-182) -> 42369 | B26: =IF(G26=0,0,$B$6/2*$B$8) -> 53750 | C26: =IF(A26-$B$9<0,0,A26-$B$9) -> 378 | D26: =C26/182 -> 2.0769231 | E26: =IF(G26=0,0,F26) -> #REF! | F26: =B26/(1+$B$7/2)^D26 -> #REF! | G26: =IF($B$9>=A26,0,1) -> 1 | I26: =IF(A26>0,A26,1E+27) -> 42369 | J26: 3 | K26: =B26/(1+$B$7/2)^J26 -> #REF!
A27: =IF(A26-182<$B$9,0,A26-182) -> 42187 | B27: =IF(G27=0,0,$B$6/2*$B$8) -> 53750 | C27: =IF(A27-$B$9<0,0,A27-$B$9) -> 196 | D27: =C27/182 -> 1.0769231 | E27: =IF(G27=0,0,F27) -> #REF! | F27: =B27/(1+$B$7/2)^D27 -> #REF! | G27: =IF($B$9>=A27,0,1) -> 1 | I27: =IF(A27>0,A27,1E+27) -> 42187 | J27: 2 | K27: =B27/(1+$B$7/2)^J27 -> #REF!
A28: =IF(A27-182<$B$9,0,A27-182) -> 42005 | B28: =IF(G28=0,0,$B$6/2*$B$8) -> 53750 | C28: =IF(A28-$B$9<0,0,A28-$B$9) -> 14 | D28: =C28/182 -> 0.076923077 | E28: =IF(G28=0,0,F28) -> #REF! | F28: =B28/(1+$B$7/2)^D28 -> #REF! | G28: =IF($B$9>=A28,0,1) -> 1 | I28: =IF(A28>0,A28,1E+27) -> 42005 | J28: 1 | K28: =B28/(1+$B$7/2)^J28 -> #REF!
A29: =IF(A28-182<$B$9,0,A28-182) -> 0 | B29: =IF(G29=0,0,$B$6/2*$B$8) -> 0 | C29: =IF(A29-$B$9<0,0,A29-$B$9) -> 0 | D29: =C29/182 -> 0 | E29: =IF(G29=0,0,F29) -> 0 | F29: =B29/(1+$B$7/2)^D29 -> #REF! | G29: =IF($B$9>=A29,0,1) -> 0 | I29: =IF(A29>0,A29,1E+27) -> 1e+27
A30: =IF(A29-182<$B$9,0,A29-182) -> 0 | B30: =IF(G30=0,0,$B$6/2*$B$8) -> 0 | C30: =IF(A30-$B$9<0,0,A30-$B$9) -> 0 | D30: =C30/182 -> 0 | E30: =IF(G30=0,0,F30) -> 0 | F30: =B30/(1+$B$7/2)^D30 -> #REF! | G30: =IF($B$9>=A30,0,1) -> 0 | I30: =IF(A30>0,A30,1E+27) -> 1e+27
A31: =IF(A30-182<$B$9,0,A30-182) -> 0 | B31: =IF(G31=0,0,$B$6/2*$B$8) -> 0 | C31: =IF(A31-$B$9<0,0,A31-$B$9) -> 0 | D31: =C31/182 -> 0 | E31: =IF(G31=0,0,F31) -> 0 | F31: =B31/(1+$B$7/2)^D31 -> #REF! | G31: =IF($B$9>=A31,0,1) -> 0 | I31: =IF(A31>0,A31,1E+27) -> 1e+27
A32: =IF(A31-182<$B$9,0,A31-182) -> 0 | B32: =IF(G32=0,0,$B$6/2*$B$8) -> 0 | C32: =IF(A32-$B$9<0,0,A32-$B$9) -> 0 | D32: =C32/182 -> 0 | E32: =IF(G32=0,0,F32) -> 0 | F32: =B32/(1+$B$7/2)^D32 -> #REF! | G32: =IF($B$9>=A32,0,1) -> 0 | I32: =IF(A32>0,A32,1E+27) -> 1e+27
A33: =IF(A32-182<$B$9,0,A32-182) -> 0 | B33: =IF(G33=0,0,$B$6/2*$B$8) -> 0 | C33: =IF(A33-$B$9<0,0,A33-$B$9) -> 0 | D33: =C33/182 -> 0 | E33: =IF(G33=0,0,F33) -> 0 | F33: =B33/(1+$B$7/2)^D33 -> #REF! | G33: =IF($B$9>=A33,0,1) -> 0 | I33: =IF(A33>0,A33,1E+27) -> 1e+27
A34: =IF(A33-182<$B$9,0,A33-182) -> 0 | B34: =IF(G34=0,0,$B$6/2*$B$8) -> 0 | C34: =IF(A34-$B$9<0,0,A34-$B$9) -> 0 | D34: =C34/182 -> 0 | E34: =IF(G34=0,0,F34) -> 0 | F34: =B34/(1+$B$7/2)^D34 -> #REF! | G34: =IF($B$9>=A34,0,1) -> 0 | I34: =IF(A34>0,A34,1E+27) -> 1e+27
A35: =IF(A34-182<$B$9,0,A34-182) -> 0 | B35: =IF(G35=0,0,$B$6/2*$B$8) -> 0 | C35: =IF(A35-$B$9<0,0,A35-$B$9) -> 0 | D35: =C35/182 -> 0 | E35: =IF(G35=0,0,F35) -> 0 | F35: =B35/(1+$B$7/2)^D35 -> #REF! | G35: =IF($B$9>=A35,0,1) -> 0 | I35: =IF(A35>0,A35,1E+27) -> 1e+27
A36: =IF(A35-182<$B$9,0,A35-182) -> 0 | B36: =IF(G36=0,0,$B$6/2*$B$8) -> 0 | C36: =IF(A36-$B$9<0,0,A36-$B$9) -> 0 | D36: =C36/182 -> 0 | E36: =IF(G36=0,0,F36) -> 0 | F36: =B36/(1+$B$7/2)^D36 -> #REF! | G36: =IF($B$9>=A36,0,1) -> 0 | I36: =IF(A36>0,A36,1E+27) -> 1e+27
A37: =IF(A36-182<$B$9,0,A36-182) -> 0 | B37: =IF(G37=0,0,$B$6/2*$B$8) -> 0 | C37: =IF(A37-$B$9<0,0,A37-$B$9) -> 0 | D37: =C37/182 -> 0 | E37: =IF(G37=0,0,F37) -> 0 | F37: =B37/(1+$B$7/2)^D37 -> #REF! | G37: =IF($B$9>=A37,0,1) -> 0 | I37: =IF(A37>0,A37,1E+27) -> 1e+27
A38: =IF(A37-182<$B$9,0,A37-182) -> 0 | B38: =IF(G38=0,0,$B$6/2*$B$8) -> 0 | C38: =IF(A38-$B$9<0,0,A38-$B$9) -> 0 | D38: =C38/182 -> 0 | E38: =IF(G38=0,0,F38) -> 0 | F38: =B38/(1+$B$7/2)^D38 -> #REF! | G38: =IF($B$9>=A38,0,1) -> 0 | I38: =IF(A38>0,A38,1E+27) -> 1e+27
A39: =IF(A38-182<$B$9,0,A38-182) -> 0 | B39: =IF(G39=0,0,$B$6/2*$B$8) -> 0 | C39: =IF(A39-$B$9<0,0,A39-$B$9) -> 0 | D39: =C39/182 -> 0 | E39: =IF(G39=0,0,F39) -> 0 | F39: =B39/(1+$B$7/2)^D39 -> #REF! | G39: =IF($B$9>=A39,0,1) -> 0 | I39: =IF(A39>0,A39,1E+27) -> 1e+27
A40: =IF(A39-182<$B$9,0,A39-182) -> 0 | B40: =IF(G40=0,0,$B$6/2*$B$8) -> 0 | C40: =IF(A40-$B$9<0,0,A40-$B$9) -> 0 | D40: =C40/182 -> 0 | E40: =IF(G40=0,0,F40) -> 0 | F40: =B40/(1+$B$7/2)^D40 -> #REF! | G40: =IF($B$9>=A40,0,1) -> 0 | I40: =IF(A40>0,A40,1E+27) -> 1e+27
... A80: =IF(A79-182<$B$9,0,A79-182) -> 0 | B80: =IF(G80=0,0,$B$6/2*$B$8) -> 0 | C80: =IF(A80-$B$9<0,0,A80-$B$9) -> 0 | D80: =C80/182 -> 0 | E80: =IF(G80=0,0,F80) -> 0 | F80: =B80/(1+$B$7/2)^D80 -> #REF! | G80: =IF($B$9>=A80,0,1) -> 0 | I80: =IF(A80>0,A80,1E+27) -> 1e+27

Sheet Price 11th
A1: Actual/364 Bond Pricing Spread Sheet
G4: Cost
A5: Maturity | B5: 43657 | C5: =B5 -> 43657 | E5: =B11 -> #REF! | F5: All-in Price | G5: Face Value | I5: =H5/B8 -> 0
A6: Coupon | B6: 0.1375 | E6: =B18 -> 58173.077 | F6: Accrued Interest
A7: YTM | B7: =+'Price Matrix 16th Oct 2026'!#REF! -> #REF! | E7: =(E5-E6)-B8 -> #REF! | F7: Premium
A8: Nominal | B8: 1000000
A9: Settlement | B9: 41991 | C9: =B9 -> 41991 | M9: 93.688034
E10: =B5-B9 -> 1666 | F10: Days to maturity
A11: All-in Cost | B11: =SUM(F22:F80) -> #REF!
A12: All-in Price | B12: =B11/B8*100 -> #REF! | E12: =-E7/E10 -> #REF! | F12: Daily Premium Write-off | I12: =B9-I13 -> -28 | O12: =13.75-13.513 -> 0.237
D13: ` | E13: =B8*B6/364 -> 377.74725 | F13: Daily Interest Accrual | I13: =MIN(I22:I80) -> 42019 | K13: =SUM(K22:K28) -> #REF! | O13: =14.25-14.094 -> 0.156
A14: Accrued Interest | B14: =B18/B8*100 -> 5.8173077
A15: Clean Price | B15: =B12-B14 -> #REF! | C15: =B15+B14 -> #REF!
A17: Accred Interest | B17: =IF(I17>=181,0,I17+1) -> 154 | C17: days | F17: =-PV(B7/2,6,0.05125,100) -> #REF! | I17: =181+I12 -> 153
A18: Accrued | B18: =B8*B6/2*B17/182 -> 58173.077
A20: Dates | B20: Cashflow | C20: Days to cashflow | D20: Periods | E20: PV | G20: Date calc
A22: =B5 -> 43657 | B22: =B8+$B$6/2*$B$8 -> 1068750 | C22: =IF(A22-$B$9<0,0,A22-$B$9) -> 1666 | D22: =C22/182 -> 9.1538462 | E22: =IF(D22<0,0,F22) -> #REF! | F22: =B22/(1+$B$7/2)^D22 -> #REF! | G22: =IF($B$9>=A22,0,1) -> 1 | I22: =IF(A22>0,A22,1E+27) -> 43657 | J22: 7 | K22: =B22/(1+$B$7/2)^J22 -> #REF!
A23: =IF(A22-182<$B$9,0,A22-182) -> 43475 | B23: =IF(G23=0,0,$B$6/2*$B$8) -> 68750 | C23: =IF(A23-$B$9<0,0,A23-$B$9) -> 1484 | D23: =C23/182 -> 8.1538462 | E23: =IF(D23<0,0,F23) -> #REF! | F23: =B23/(1+$B$7/2)^D23 -> #REF! | G23: =IF($B$9>=A23,0,1) -> 1 | I23: =IF(A23>0,A23,1E+27) -> 43475 | J23: 6 | K23: =B23/(1+$B$7/2)^J23 -> #REF!
A24: =IF(A23-182<$B$9,0,A23-182) -> 43293 | B24: =IF(G24=0,0,$B$6/2*$B$8) -> 68750 | C24: =IF(A24-$B$9<0,0,A24-$B$9) -> 1302 | D24: =C24/182 -> 7.1538462 | E24: =IF(D24<0,0,F24) -> #REF! | F24: =B24/(1+$B$7/2)^D24 -> #REF! | G24: =IF($B$9>=A24,0,1) -> 1 | I24: =IF(A24>0,A24,1E+27) -> 43293 | J24: 5 | K24: =B24/(1+$B$7/2)^J24 -> #REF!
A25: =IF(A24-182<$B$9,0,A24-182) -> 43111 | B25: =IF(G25=0,0,$B$6/2*$B$8) -> 68750 | C25: =IF(A25-$B$9<0,0,A25-$B$9) -> 1120 | D25: =C25/182 -> 6.1538462 | E25: =IF(D25<0,0,F25) -> #REF! | F25: =B25/(1+$B$7/2)^D25 -> #REF! | G25: =IF($B$9>=A25,0,1) -> 1 | I25: =IF(A25>0,A25,1E+27) -> 43111 | J25: 4 | K25: =B25/(1+$B$7/2)^J25 -> #REF!
A26: =IF(A25-182<$B$9,0,A25-182) -> 42929 | B26: =IF(G26=0,0,$B$6/2*$B$8) -> 68750 | C26: =IF(A26-$B$9<0,0,A26-$B$9) -> 938 | D26: =C26/182 -> 5.1538462 | E26: =IF(G26=0,0,F26) -> #REF! | F26: =B26/(1+$B$7/2)^D26 -> #REF! | G26: =IF($B$9>=A26,0,1) -> 1 | I26: =IF(A26>0,A26,1E+27) -> 42929 | J26: 3 | K26: =B26/(1+$B$7/2)^J26 -> #REF!
A27: =IF(A26-182<$B$9,0,A26-182) -> 42747 | B27: =IF(G27=0,0,$B$6/2*$B$8) -> 68750 | C27: =IF(A27-$B$9<0,0,A27-$B$9) -> 756 | D27: =C27/182 -> 4.1538462 | E27: =IF(G27=0,0,F27) -> #REF! | F27: =B27/(1+$B$7/2)^D27 -> #REF! | G27: =IF($B$9>=A27,0,1) -> 1 | I27: =IF(A27>0,A27,1E+27) -> 42747 | J27: 2 | K27: =B27/(1+$B$7/2)^J27 -> #REF!
A28: =IF(A27-182<$B$9,0,A27-182) -> 42565 | B28: =IF(G28=0,0,$B$6/2*$B$8) -> 68750 | C28: =IF(A28-$B$9<0,0,A28-$B$9) -> 574 | D28: =C28/182 -> 3.1538462 | E28: =IF(G28=0,0,F28) -> #REF! | F28: =B28/(1+$B$7/2)^D28 -> #REF! | G28: =IF($B$9>=A28,0,1) -> 1 | I28: =IF(A28>0,A28,1E+27) -> 42565 | J28: 1 | K28: =B28/(1+$B$7/2)^J28 -> #REF!
A29: =IF(A28-182<$B$9,0,A28-182) -> 42383 | B29: =IF(G29=0,0,$B$6/2*$B$8) -> 68750 | C29: =IF(A29-$B$9<0,0,A29-$B$9) -> 392 | D29: =C29/182 -> 2.1538462 | E29: =IF(G29=0,0,F29) -> #REF! | F29: =B29/(1+$B$7/2)^D29 -> #REF! | G29: =IF($B$9>=A29,0,1) -> 1 | I29: =IF(A29>0,A29,1E+27) -> 42383
A30: =IF(A29-182<$B$9,0,A29-182) -> 42201 | B30: =IF(G30=0,0,$B$6/2*$B$8) -> 68750 | C30: =IF(A30-$B$9<0,0,A30-$B$9) -> 210 | D30: =C30/182 -> 1.1538462 | E30: =IF(G30=0,0,F30) -> #REF! | F30: =B30/(1+$B$7/2)^D30 -> #REF! | G30: =IF($B$9>=A30,0,1) -> 1 | I30: =IF(A30>0,A30,1E+27) -> 42201
A31: =IF(A30-182<$B$9,0,A30-182) -> 42019 | B31: =IF(G31=0,0,$B$6/2*$B$8) -> 68750 | C31: =IF(A31-$B$9<0,0,A31-$B$9) -> 28 | D31: =C31/182 -> 0.15384615 | E31: =IF(G31=0,0,F31) -> #REF! | F31: =B31/(1+$B$7/2)^D31 -> #REF! | G31: =IF($B$9>=A31,0,1) -> 1 | I31: =IF(A31>0,A31,1E+27) -> 42019
A32: =IF(A31-182<$B$9,0,A31-182) -> 0 | B32: =IF(G32=0,0,$B$6/2*$B$8) -> 0 | C32: =IF(A32-$B$9<0,0,A32-$B$9) -> 0 | D32: =C32/182 -> 0 | E32: =IF(G32=0,0,F32) -> 0 | F32: =B32/(1+$B$7/2)^D32 -> #REF! | G32: =IF($B$9>=A32,0,1) -> 0 | I32: =IF(A32>0,A32,1E+27) -> 1e+27
A33: =IF(A32-182<$B$9,0,A32-182) -> 0 | B33: =IF(G33=0,0,$B$6/2*$B$8) -> 0 | C33: =IF(A33-$B$9<0,0,A33-$B$9) -> 0 | D33: =C33/182 -> 0 | E33: =IF(G33=0,0,F33) -> 0 | F33: =B33/(1+$B$7/2)^D33 -> #REF! | G33: =IF($B$9>=A33,0,1) -> 0 | I33: =IF(A33>0,A33,1E+27) -> 1e+27
A34: =IF(A33-182<$B$9,0,A33-182) -> 0 | B34: =IF(G34=0,0,$B$6/2*$B$8) -> 0 | C34: =IF(A34-$B$9<0,0,A34-$B$9) -> 0 | D34: =C34/182 -> 0 | E34: =IF(G34=0,0,F34) -> 0 | F34: =B34/(1+$B$7/2)^D34 -> #REF! | G34: =IF($B$9>=A34,0,1) -> 0 | I34: =IF(A34>0,A34,1E+27) -> 1e+27
A35: =IF(A34-182<$B$9,0,A34-182) -> 0 | B35: =IF(G35=0,0,$B$6/2*$B$8) -> 0 | C35: =IF(A35-$B$9<0,0,A35-$B$9) -> 0 | D35: =C35/182 -> 0 | E35: =IF(G35=0,0,F35) -> 0 | F35: =B35/(1+$B$7/2)^D35 -> #REF! | G35: =IF($B$9>=A35,0,1) -> 0 | I35: =IF(A35>0,A35,1E+27) -> 1e+27
A36: =IF(A35-182<$B$9,0,A35-182) -> 0 | B36: =IF(G36=0,0,$B$6/2*$B$8) -> 0 | C36: =IF(A36-$B$9<0,0,A36-$B$9) -> 0 | D36: =C36/182 -> 0 | E36: =IF(G36=0,0,F36) -> 0 | F36: =B36/(1+$B$7/2)^D36 -> #REF! | G36: =IF($B$9>=A36,0,1) -> 0 | I36: =IF(A36>0,A36,1E+27) -> 1e+27
A37: =IF(A36-182<$B$9,0,A36-182) -> 0 | B37: =IF(G37=0,0,$B$6/2*$B$8) -> 0 | C37: =IF(A37-$B$9<0,0,A37-$B$9) -> 0 | D37: =C37/182 -> 0 | E37: =IF(G37=0,0,F37) -> 0 | F37: =B37/(1+$B$7/2)^D37 -> #REF! | G37: =IF($B$9>=A37,0,1) -> 0 | I37: =IF(A37>0,A37,1E+27) -> 1e+27
A38: =IF(A37-182<$B$9,0,A37-182) -> 0 | B38: =IF(G38=0,0,$B$6/2*$B$8) -> 0 | C38: =IF(A38-$B$9<0,0,A38-$B$9) -> 0 | D38: =C38/182 -> 0 | E38: =IF(G38=0,0,F38) -> 0 | F38: =B38/(1+$B$7/2)^D38 -> #REF! | G38: =IF($B$9>=A38,0,1) -> 0 | I38: =IF(A38>0,A38,1E+27) -> 1e+27
A39: =IF(A38-182<$B$9,0,A38-182) -> 0 | B39: =IF(G39=0,0,$B$6/2*$B$8) -> 0 | C39: =IF(A39-$B$9<0,0,A39-$B$9) -> 0 | D39: =C39/182 -> 0 | E39: =IF(G39=0,0,F39) -> 0 | F39: =B39/(1+$B$7/2)^D39 -> #REF! | G39: =IF($B$9>=A39,0,1) -> 0 | I39: =IF(A39>0,A39,1E+27) -> 1e+27
A40: =IF(A39-182<$B$9,0,A39-182) -> 0 | B40: =IF(G40=0,0,$B$6/2*$B$8) -> 0 | C40: =IF(A40-$B$9<0,0,A40-$B$9) -> 0 | D40: =C40/182 -> 0 | E40: =IF(G40=0,0,F40) -> 0 | F40: =B40/(1+$B$7/2)^D40 -> #REF! | G40: =IF($B$9>=A40,0,1) -> 0 | I40: =IF(A40>0,A40,1E+27) -> 1e+27
... A80: =IF(A79-182<$B$9,0,A79-182) -> 0 | B80: =IF(G80=0,0,$B$6/2*$B$8) -> 0 | C80: =IF(A80-$B$9<0,0,A80-$B$9) -> 0 | D80: =C80/182 -> 0 | E80: =IF(G80=0,0,F80) -> 0 | F80: =B80/(1+$B$7/2)^D80 -> #REF! | G80: =IF($B$9>=A80,0,1) -> 0 | I80: =IF(A80>0,A80,1E+27) -> 1e+27

Sheet Sheet1
A1: ISIN | B1: Issue date | C1: Tenor at Issue | E1: Coupon | F1: Date due | G1: Macaulay's Duration | H1: Modified Duration | I1: Price Value of Basis Pt | J1: Dirty Price | K1: Clean Price | L1: Average YTM | M1: Face Value
B2: 42628 | C2: 980 (6 months) | D2: 7 Day | F2: 42810 | G2: 0.0082417582 | H2: 0.0077936248 | I2: 7.7864459e-05 | J2: 99.907887 | K2: 99.907887 | L2: 11.5 | M2: 270000000000 | Q2: Assumptions
B3: 41949 | C3: 3YR 13.000% 19-MAY-2017 | E3: 0.13 | F3: 42874 | G3: 0.18406593 | H3: 0.17388949 | I3: 0.0017421332 | J3: 104.29337 | K3: 100.18623 | L3: 11.7045 | M3: 147300000000 | Q3: 1. Securities with the same maturity dates at the same have the same YTM
B4: 42796 | C4: 992 (3 months) | D4: 3 Month | F4: 42887 | G4: 0.21978022 | H4: 0.20742887 | I4: 0.0020222167 | J4: 97.489648 | K4: 97.489648 | L4: 11.909 | M4: 10000000000 | Q4: 2. 25 basis added to the YTM of the on-line Treasury bills
A5: UG0000001020 | B5: 41136 | C5: 45220-T-BOND-5-10-AUG-17 | E5: 0.1075 | F5: 42957 | G5: 0.41208791 | H5: 0.38857767 | I5: 0.0038643947 | J5: 100.39479 | K5: 99.449737 | L5: 12.100667 | M5: 50000000000
B6: 42228 | C6: 45220-T-BOND-2-10-AUG-17 | E6: 0.1875 | F6: 42957 | G6: 0.41208791 | H6: 0.38822684 | I6: 0.0039785428 | J6: 104.1282 | K6: 102.47985 | L6: 12.292333 | M6: 13603300000
B7: 42796 | C7: 992 (6 months) | D7: 6 Month | F7: 42978 | G7: 0.46978022 | H7: 0.44217938 | I7: 0.0041772607 | J7: 94.469822 | K7: 94.469822 | L7: 12.484 | M7: 160000000000
A8: UG0000001111 | B8: 41192 | C8: 45220-T-BOND-5-05-OCT-17 | E8: 0.1075 | F8: 43013 | G8: 0.54020539 | H8: 0.5079362 | I8: 0.005025736 | J8: 103.61045 | K8: 98.944237 | L8: 12.706 | M8: 100000000000 | N8: R
B9: 42341 | C9: 45220-T-BOND-2-30-NOV-17 | E9: 0.1875 | F9: 43069 | G9: 0.67796833 | H9: 0.63680524 | I9: 0.0066107121 | J9: 109.0647 | K9: 103.81058 | L9: 12.928 | M9: 232501500000
B10: 42345 | C10: 45220-TOND-2-04-DEC-17 | E10: 0.20125 | F10: 43073 | G10: 0.68637644 | H10: 0.64403138 | I10: 0.0067387651 | J10: 110.05238 | K10: 104.63411 | L10: 13.15 | M10: 200000000000 | O10: 3m | P10: 17.03 | Q10: 0.25 | R10: 17.28
B11: 41276 | C11: 45220-T-BOND-5-28-DEC-2017 | E11: 0.1075 | F11: 43097 | G11: 0.77089822 | H11: 0.72258611 | I11: 0.0070840034 | J11: 100.22225 | K11: 98.036805 | L11: 13.372 | M11: 139144100000
A12: UG0000001194 | B12: 41332 | C12: 45220-T-BOND-5-22-FEB-2018 | E12: 0.1075 | F12: 43153 | G12: 0.92471891 | H12: 0.865866 | I12: 0.0084444291 | J12: 98.057413 | K12: 97.525819 | L12: 13.594 | M12: 200000000000
B13: 42796 | C13: 992 (12 months) | D13: 1 Year | F13: 43160 | G13: 0.96978022 | H13: 0.9071166 | I13: 0.0079688577 | J13: 87.848218 | K13: 87.848218 | L13: 13.816 | M13: 130000000000 | O13: 6m | P13: 17.73 | Q13: 0.25 | R13: 17.98
B14: 42452 | C14: 45220-T-BOND-2-22-Mar-18 | E14: 0.16125 | F14: 43181 | G14: 0.91978813 | H14: 0.85894745 | I14: 0.0087440332 | J14: 109.4189 | K14: 101.7994 | L14: 14.166333 | M14: 223914200000 | O14: 1y | P14: 20.11 | Q14: 0.25 | R14: 20.36
B15: 41430 | C15: 45220-T-BOND-5-31-MAY-18 | E15: 0.1075 | F15: 43251 | G15: 1.1425055 | H15: 1.0651904 | I15: 0.010212675 | J15: 98.888882 | K15: 95.876519 | L15: 14.516667 | M15: 80000000000 | O15: 2y | P15: 16.2
B16: 42593 | C16: 45220-TBOND-2-09-AUG-18 | D16: 2 Year | E16: 0.16625 | F16: 43321 | G16: 1.3012414 | H16: 1.2112064 | I16: 0.01236942 | J16: 103.58633 | K16: 102.12479 | L16: 14.867 | M16: 120000000000 | O16: 3y | P16: 16.45
B17: 41528 | C17: 45220-T-BOND-05-06-Sep-18 | E17: 0.1075 | F17: 43349 | G17: 1.4115272 | H17: 1.3136806 | I17: 0.012431975 | J17: 94.752813 | K17: 94.634682 | L17: 14.89655 | M17: 75000000000 | N17: R | O17: 5y | P17: 16.63
B18: 41585 | C18: 45220-T-BOND-5-01-NOV-18 | E18: 0.14625 | F18: 43405 | G18: 1.4470161 | H18: 1.3465244 | I18: 0.013400767 | J18: 104.74438 | K18: 99.521163 | L18: 14.9261 | M18: 155669700000 | O18: 10y | P18: 16.85
B19: 42424 | C19: 45220-T-BOND-3-21-FEB-19 | E19: 0.1863 | F19: 43517 | G19: 1.7167841 | H19: 1.5973379 | I19: 0.016930972 | J19: 106.91619 | K19: 105.99493 | L19: 14.95565 | M19: 224279900000 | N19: R | P19: -1.86475
B20: 41782 | C20: 5YR 13.250% 17-MAY-2019 | E20: 0.1325 | F20: 43602 | G20: 1.8861887 | H20: 1.7547149 | I20: 0.016987422 | J20: 100.99628 | K20: 96.810153 | L20: 14.9852 | M20: 200000000000 | N20: R | P20: -0.20719444
B21: 41809 | C21: 45220-T-BOND-5-13-JUN-19 | E21: 0.1375 | F21: 43629 | G21: 1.9522279 | H21: 1.8159014 | I21: 0.017721164 | J21: 100.91298 | K21: 97.588806 | L21: 15.01475 | M21: 233466400000
B22: 41836 | C22: 45220-T-BOND-5-11-JUL-19 | E22: 0.1375 | F22: 43657 | G22: 2.0290475 | H22: 1.8870973 | I22: 0.018394149 | J22: 99.739728 | K22: 97.473245 | L22: 15.0443 | M22: 158046300000
B23: 42620 | C23: 45220-TBOND-3-05-SEP-19 | E23: 0.16375 | F23: 43713 | G23: 2.1431807 | H23: 1.9929719 | I23: 0.020450613 | J23: 102.7936 | K23: 102.61366 | L23: 15.07385 | M23: 333952300000
B24: 41950 | C24: 45220-TBOND-5-24-SEP-2019 | E24: 0.13625 | F24: 43732 | G24: 2.0928111 | H24: 1.9458652 | I24: 0.018865893 | J24: 103.20478 | K24: 96.953752 | L24: 15.1034 | M24: 150000000000
A25: UG0000000691 | B25: 40128 | C25: 45220-T-BOND-10-31-OCT-19 | E25: 0.11 | F25: 43769 | G25: 2.2560527 | H25: 2.0973568 | I25: 0.019132454 | J25: 95.150316 | K25: 91.221745 | L25: 15.13295 | M25: 60000000000 | P25: 0.1773
A26: UG0000000733 | B26: 40269 | C26: 45220-T-BOND-10-23-JAN-20 | E26: 0.11 | F26: 43853 | G26: 2.4866624 | H26: 2.3114273 | I26: 0.020929408 | J26: 91.93766 | K26: 90.54755 | L26: 15.1625 | M26: 100000000000 | P26: 0.02955
B27: 42082 | C27: 45220-T-BOND-5-19-MAR-20 | E27: 0.17 | F27: 43909 | G27: 2.3226129 | H27: 2.1586419 | I27: 0.022502793 | J27: 112.27811 | K27: 104.24514 | L27: 15.19205 | M27: 221000000000
B28: 42145 | C28: 45220-T-BOND-5-14-MAY-20 | E28: 0.17 | F28: 43965 | G28: 2.4761608 | H28: 2.3010338 | I28: 0.023996298 | J28: 109.70244 | K28: 104.28486 | L28: 15.2216 | M28: 100000000000 | N28: R
A29: UG0000000782 | B29: 40380 | C29: 45220-T-BOND-10-09-JUL-20 | E29: 0.11 | F29: 44021 | G29: 2.7973567 | H29: 2.5991561 | I29: 0.023172652 | J29: 90.967709 | K29: 89.154522 | L29: 15.25115 | M29: 80000000000 | P29: 0.14775
B30: 42313 | C30: 45220-T-BOND-5-03-SEP-20 | E30: 0.2 | F30: 44077 | G30: 2.7170976 | H30: 2.5242371 | I30: 0.028372448 | J30: 112.61987 | K30: 112.40009 | L30: 15.2807 | M30: 460439200000 | N30: R | P30: 0.02955
A31: UG0000000865 | B31: 40576 | C31: 45220-T-BOND-10-21-JAN-21 | E31: 0.11 | F31: 44217 | G31: 3.1622923 | H31: 2.9374285 | I31: 0.025763332 | J31: 89.097206 | K31: 87.707096 | L31: 15.31025 | M31: 50000000000
B32: 42425 | C32: 45220-T-BOND-5-18-FEB-2021 | E32: 0.1838 | F32: 44245 | G32: 2.9959628 | H32: 2.7825444 | I32: 0.030256139 | J32: 109.64441 | K32: 108.73551 | L32: 15.3398 | M32: 100000000000 | N32: R
B33: 42509 | C33: 45220-T-BOND-5-13-MAY-21 | E33: 0.165 | F33: 44329 | G33: 3.0495109 | H33: 2.8318894 | I33: 0.029260474 | J33: 108.58316 | K33: 103.32492 | L33: 15.36935 | M33: 215136100000
B34: 42640 | C34: 45220-T-BOND-21-SEP-21 | E34: 0.165 | F34: 44460 | G34: 3.1601747 | H34: 2.9342534 | I34: 0.030364124 | J34: 111.05166 | K34: 103.4816 | L34: 15.3989 | M34: 100000000000 | P34: 0.1182
B35: 42676 | C35: 45220-TOND-5-28-OCT-21 | E35: 0.1675 | F35: 44497 | G35: 3.2515513 | H35: 3.0186833 | I35: 0.031456385 | J35: 110.18779 | K35: 104.20565 | L35: 15.42845 | M35: 169360300000 | P35: 0.02955
B36: 42713 | C36: 45220-T-BOND-3-DEC-21 | D36: 5 Year | E36: 0.17 | F36: 44533 | G36: 3.3403314 | H36: 3.1006799 | I36: 0.032548623 | J36: 109.36265 | K36: 104.97254 | L36: 15.458 | M36: 100000000000
A37: UG0000001079 | B37: 41080 | C37: 45220-T-BOND-10-09-JUN-22 | E37: 0.11 | F37: 44721 | G37: 3.8951933 | H37: 3.6142739 | I37: 0.030366309 | J37: 86.67707 | K37: 84.017729 | L37: 15.545 | M37: 230000000000
B38: 41444 | C38: 45220-T-BOND-10-13-APR-23 | E38: 0.11 | F38: 45029 | G38: 4.208718 | H38: 3.9036117 | I38: 0.032070958 | J38: 86.50879 | K38: 82.157142 | L38: 15.632 | M38: 160000000000
B39: 41668 | C39: 45220-T-BOND-10-18-JAN-24 | E39: 0.14 | F39: 45309 | G39: 4.4590325 | H39: 4.134112 | I39: 0.038397381 | J39: 94.648623 | K39: 92.879392 | L39: 15.719 | M39: 150000000000
B40: 41949 | C40: 45220-T-BOND-10-01-AUG-2024 | E40: 0.14 | F40: 45505 | G40: 4.6705341 | H40: 4.3284562 | I40: 0.039923816 | J40: 93.466465 | K40: 92.235696 | L40: 15.806 | M40: 220000000000
...

Sheet Daily Graph
A1: Maturity Date | B1: YTM
A3: 41970 | B3: 11 | C3: 0.3
A4: 41977 | B4: 10.728667 | C4: 0.3
A5: 42005 | B5: 10.457333 | C5: 0.3
A6: 42047 | B6: 10.186 | C6: 0.3
A7: 42061 | B7: 10.86825 | C7: 0.3
A8: 42089 | B8: 11.5505 | C8: 0.3
A9: 42117 | B9: 12.23275 | C9: 0.3
A10: 42138 | B10: 12.915 | C10: 0.3
A11: 42145 | B11: 13.032667 | C11: 0.3
A12: 42173 | B12: 13.150333 | C12: 0.3
A13: 42229 | B13: 13.268 | C13: 0.3
A14: 42257 | B14: 13.385667 | C14: 0.3
... A43: 43769 | B43: 14.472125 | C43: 0.3
A44: 43853 | B44: 14.50225 | C44: 0.3 | H44: Primary Market
A45: 44021 | B45: 14.532375 | C45: 0.3 | H45: 41821 | I45: 41984 | J45: Change %
A46: 44217 | B46: 14.5625 | C46: 0.3 | H46: 9.517 | I46: 10.77 | J46: =+I46-H46 -> 1.253
A47: 44721 | B47: 14.592625 | C47: 0.3 | H47: 11.156 | I47: 13.485 | J47: =+I47-H47 -> 2.329
A48: 45029 | B48: 14.62275 | C48: 0.3 | H48: 11.832 | I48: 13.644 | J48: =+I48-H48 -> 1.812
A49: 45309 | B49: 14.652875 | C49: 0.3 | H49: 12.791 | I49: 14.322 | J49: =+I49-H49 -> 1.531
A50: 45505 | B50: 14.683 | C50: 0.3 | H50: 13.765 | I50: 13.935 | J50: =+I50-H50 -> 0.17
A51: 47073 | B51: 14.8 | H51: 13.964 | I51: 14.77 | J51: =+I51-H51 -> 0.806
A52: 47353 | B52: 14.917 | H52: 14.322 | I52: 15.946 | J52: =+I52-H52 -> 1.624
G63: 43133 | H63: 43140 | I63: Changes
F64: 3 Months | G64: =K87 -> 8.366 | H64: =K88 -> 8.366 | I64: =+H64-G64 -> 0
F65: 6 Months | G65: =L87 -> 8.604 | H65: =L88 -> 8.604 | I65: =+H65-G65 -> 0
F66: 1 Year | G66: =M87 -> 9.17 | H66: =M88 -> 9.23 | I66: =+H66-G66 -> 0.06
F67: 2 Year | G67: =N87 -> 10.926667 | H67: =N88 -> 10.926667 | I67: =+H67-G67 -> 0
F68: 3-year | G68: =O87 -> 11.175 | H68: =O88 -> 11.175 | I68: =+H68-G68 -> 0
F69: 5 Year | G69: =P87 -> 12.492 | H69: =P88 -> 12.483 | I69: =+H69-G69 -> -0.009
F70: 10 Year | G70: =Q87 -> 13.95 | H70: =Q88 -> 13.95 | I70: =+H70-G70 -> 0
F71: 15 Year | G71: =R87 -> 14.175 | H71: =R88 -> 14.175
D72: %
G73: 41710 | H73: 42075 | I73: Changes
F74: 3 Months | G74: =+G64&$D$72 -> 8.366% | H74: =+H64&$D$72 -> 8.366% | I74: =+I64&$D$72 -> 0%
F75: 6 Months | G75: =+G65&$D$72 -> 8.604% | H75: =+H65&$D$72 -> 8.604% | I75: =+I65&$D$72 -> 0%
F76: 1 Year | G76: =+G66&$D$72 -> 9.17% | H76: =+H66&$D$72 -> 9.23% | I76: =+I66&$D$72 -> 0.0600000000000005%
F77: 2 Year | G77: =+#REF!&$D$72 -> #REF! | H77: =+H67&$D$72 -> 10.9266666666667% | I77: =+I67&$D$72 -> 0%
F78: 5 Year | G78: =+#REF!&$D$72 -> #REF! | H78: =+#REF!&$D$72 -> #REF! | I78: =+#REF!&$D$72 -> #REF!
F79: 10 Year | G79: =+G68&$D$72 -> 11.175% | H79: =+#REF!&$D$72 -> #REF! | I79: =+I68&$D$72 -> 0%
...

Sheet From Access
A1: ISIN | B1: Issue date | C1: Tenor at Issue | E1: Coupon | F1: Date due | G1: Macaulay's Duration | H1: Modified Duration | I1: Price Value of Basis Pt | J1: Dirty Price | K1: Clean Price | L1: Average YTM | M1: Face Value
B2: 43062 | C2: 1009 (3 months) | D2: 7 Day | F2: 43153 | G2: 0.0054945055 | H2: 0.0052541291 | I2: 5.2515469e-05 | J2: 99.950853 | K2: 99.950853 | L2: 9.15 | M2: 10000000000 | Q2: Assumptions
B3: 41332 | C3: 45220-T-BOND-5-22-FEB-18 | E3: 0.1075 | F3: 43153 | G3: 0.0054945055 | H3: 0.0052606604 | I3: 5.2611189e-05 | J3: 105.32465 | K3: 100.00872 | L3: 8.8903333 | M3: 200000000000 | Q3: 1. Securities with the same maturity dates at the same have the same YTM
A4: UG0000001673 | B4: 42452 | C4: UG0000001673 16.125% 2Y 22-MAR-2018 | E4: 0.16125 | F4: 43181 | G4: 0.082417582 | H4: 0.079008119 | I4: 0.00079465617 | J4: 107.31257 | K4: 100.57905 | L4: 8.6306667 | M4: 223914200000 | Q4: 2. 25 basis added to the YTM of the on-line Treasury bills
B5: 43146 | C5: 1015 (3 months) | D5: 3 Month | F5: 43237 | G5: 0.23626374 | H5: 0.22677219 | I5: 0.0022242078 | J5: 98.081155 | K5: 98.081155 | L5: 8.371 | M5: 10000000000
B6: 41430 | C6: 45220-T-BOND-5-31-MAY-18 | E6: 0.1075 | F6: 43251 | G6: 0.27472527 | H6: 0.26358655 | I6: 0.0026512573 | J6: 103.00564 | K6: 100.58394 | L6: 8.4516667 | M6: 80000000000
A7: UG0000001731 | B7: 42593 | C7: UG0000001731 16.625% 09-AUG-2018 | E7: 0.16625 | F7: 43321 | G7: 0.46703297 | H7: 0.44792379 | I7: 0.0046413519 | J7: 104.16731 | K7: 103.61923 | L7: 8.5323333 | M7: 120000000000
B8: 43146 | C8: 1015 (6 months) | D8: 6 Month | F8: 43328 | G8: 0.48626374 | H8: 0.46618738 | I8: 0.0044745792 | J8: 95.982418 | K8: 95.982418 | L8: 8.613 | M8: 160000000000 | N8: R
B9: 41528 | C9: 10.750% 06-SEP-2018 | E9: 0.1075 | F9: 43349 | G9: 0.5186738 | H9: 0.49676957 | I9: 0.0050171217 | J9: 105.89742 | K9: 100.99495 | L9: 8.8186667 | M9: 75000000000
A10: UG0000001012 | B10: 41585 | C10: UG0000001012 14.625% 01/NOV/2018 | E10: 0.14625 | F10: 43405 | G10: 0.66456112 | H10: 0.63586963 | I10: 0.0065919696 | J10: 108.08821 | K10: 103.66857 | L10: 9.0243333 | M10: 354326300000 | O10: 3m | P10: 17.03 | Q10: 0.25 | R10: 17.28
B11: 43146 | C11: 1015 (12 months) | D11: 1 Year | F11: 43510 | G11: 0.98626374 | H11: 0.94275557 | I11: 0.0086248089 | J11: 91.485102 | K11: 91.485102 | L11: 9.23 | M11: 125000000000
A12: UG0000001657 | B12: 42424 | C12: UG0000001657 18.625% 21-FEB-2019 | E12: 0.18625 | F12: 43517 | G12: 0.88879816 | H12: 0.84882465 | I12: 0.0092214098 | J12: 117.84756 | K12: 108.63739 | L12: 9.4185556 | M12: 334585100000
B13: 42873 | C13: 5YR 13.250% 17-MAY-2019 | E13: 0.1325 | F13: 43602 | G13: 1.1500675 | H13: 1.0973554 | I13: 0.011426006 | J13: 107.58121 | K13: 104.12311 | L13: 9.6071111 | M13: 192100000000 | O13: 6m | P13: 17.73 | Q13: 0.25 | R13: 17.98
A14: UG0000001236 | B14: 41809 | C14: UG0000001236 5YR 13.750% 13-JUN-2019 | E14: 0.1375 | F14: 43629 | G14: 1.2213606 | H14: 1.1643335 | I14: 0.012193578 | J14: 107.2945 | K14: 104.72581 | L14: 9.7956667 | M14: 233466400000 | O14: 1y | P14: 20.11 | Q14: 0.25 | R14: 20.36
A15: UG0000001251 | B15: 42929 | C15: UG0000001251 13.750% 11-JUL-2019 | E15: 0.1375 | F15: 43657 | G15: 1.2981604 | H15: 1.2364362 | I15: 0.01295154 | J15: 106.25995 | K15: 104.74896 | L15: 9.9842222 | M15: 251996300000 | O15: 2y | P15: 16.2
A16: UG0000001699 | B16: 42620 | C16: UG0000001699 16.375% 05-SEP-2019 | E16: 0.16375 | F16: 43713 | G16: 1.3400483 | H16: 1.2751873 | I16: 0.013854106 | J16: 116.11141 | K16: 108.64369 | L16: 10.172778 | M16: 333952300000 | O16: 3y | P16: 16.45
A17: UG0000001343 | B17: 41950 | C17: UG0000001343 13.625% 24/SEP/2019 | E17: 0.13625 | F17: 43732 | G17: 1.4183903 | H17: 1.3485276 | I17: 0.014114187 | J17: 110.16609 | K17: 104.66369 | L17: 10.361333 | M17: 150000000000 | N17: R | O17: 5y | P17: 16.63
B18: 40128 | C18: 45220-T-BOND-10-31-OCT-19 | E18: 0.11 | F18: 43769 | G18: 1.5474321 | H18: 1.4698959 | I18: 0.014794427 | J18: 103.97367 | K18: 100.64949 | L18: 10.549889 | M18: 60000000000 | O18: 10y | P18: 16.85
A19: UG0000007324 | B19: 43041 | C19: UG0000007324 11.000% 23-JAN-2020 | E19: 0.11 | F19: 43850 | G19: 1.7696819 | H19: 1.6795055 | I19: 0.016866282 | J19: 101.30047 | K19: 100.4241 | L19: 10.738444 | M19: 160000000000 | N19: R | P19: -2.0138095
B20: 43462 | C20: 45220-T-BOND-10-23-JAN-20 | D20: 2 Year | E20: 0.11 | F20: 43853 | G20: 1.7776458 | H20: 1.6855555 | I20: 0.016873443 | J20: 100.89184 | K20: 100.10613 | L20: 10.927 | M20: 240000000000 | N20: R | P20: -0.22375661
A21: UG0000001517 | B21: 42082 | C21: UG0000001517 17.000% 5YR 19-MAR-2020 | E21: 0.17 | F21: 43909 | G21: 1.7433118 | H21: 1.6521296 | I21: 0.018305015 | J21: 117.89539 | K21: 110.79648 | L21: 11.038143 | M21: 399939500000
B22: 42145 | C22: 17.000% 5YR 14-MAY-2020 | E22: 0.17 | F22: 43965 | G22: 1.8967337 | H22: 1.7965808 | I22: 0.019986549 | J22: 115.73122 | K22: 111.2477 | L22: 11.149286 | M22: 100000000000
A23: UG0000000782 | B23: 40380 | C23: 45220-T-BOND-10-09-JUL-20 | E23: 0.11 | F23: 44021 | G23: 2.1419031 | H23: 2.0277372 | I23: 0.020164129 | J23: 100.65032 | K23: 99.441531 | L23: 11.260429 | M23: 80000000000
A24: UG12G0608202 | B24: 43069 | C24: RE OPEN 3YR 13.250% 06-AUG-2020R2 | E24: 0.1325 | F24: 44049 | G24: 2.1814145 | H24: 2.0640567 | I24: 0.021452444 | J24: 104.37022 | K24: 103.93341 | L24: 11.371571 | M24: 220000000000
A25: UG0000001590 | B25: 42313 | C25: UG0000001590 20.000% 03-SEP-2020 | E25: 0.2 | F25: 44077 | G25: 1.9990277 | H25: 1.8904881 | I25: 0.022367881 | J25: 127.4389 | K25: 118.31802 | L25: 11.482714 | M25: 388883100000 | P25: 0.66685714
B26: 40576 | C26: 45220-T-BOND-10-21-JAN-21 | E26: 0.11 | F26: 44217 | G26: 2.5606062 | H26: 2.4203029 | I26: 0.02384996 | J26: 99.326934 | K26: 98.54122 | L26: 11.593857 | M26: 91579000000 | P26: 0.11114286
A27: UG0000001665 | B27: 42425 | C27: UG0000001665 18.375% 18-FEB-2021 | E27: 0.18375 | F27: 44245 | G27: 2.3047733 | H27: 2.1773442 | I27: 0.025365624 | J27: 125.58453 | K27: 116.498 | L27: 11.705 | M27: 180000000000
A28: UG0000001707 | B28: 42509 | C28: UG0000001707 16.500% 5YR 13-MAY-21 | E28: 0.165 | F28: 44329 | G28: 2.5767812 | H28: 2.4330357 | I28: 0.027308876 | J28: 116.59363 | K28: 112.24198 | L28: 11.816143 | M28: 215136100000 | N28: R
A29: UG0000001699 | B29: 42640 | C29: UG0000001699 16.500% 21-SEP-2021 | E29: 0.165 | F29: 44460 | G29: 2.742035 | H29: 2.587713 | I29: 0.029247788 | J29: 119.68909 | K29: 113.02563 | L29: 11.927286 | M29: 100000000000 | P29: 0.55571429
A30: UG12H2810218 | B30: 42827 | C30: UG12H2810218 5YR 16.750% 28-OCT-2021 | E30: 0.1675 | F30: 44497 | G30: 2.8350461 | H30: 2.6740871 | I30: 0.030398351 | J30: 118.7393 | K30: 113.67749 | L30: 12.038429 | M30: 269360300000 | N30: R | P30: 0.11114286
A31: UG0000001699 | B31: 42713 | C31: UG0000001699 17.000% 3-DEC-2021 | E31: 0.17 | F31: 44533 | G31: 2.9253914 | H31: 2.7578575 | I31: 0.03153632 | J31: 117.80684 | K31: 114.3508 | L31: 12.149571 | M31: 100000000000
B32: 41783 | C32: 15.375% 13-MAY-2022 | E32: 0.15375 | F32: 44694 | G32: 3.2053928 | H32: 3.0202412 | I32: 0.033224243 | J32: 114.01797 | K32: 110.00526 | L32: 12.260714 | M32: 156300000000 | N32: R
B33: 41080 | C33: 45220-T-BOND-10-09-JUN-22 | E33: 0.11 | F33: 44721 | G33: 3.4575384 | H33: 3.2561173 | I33: 0.03108942 | J33: 97.534982 | K33: 95.480037 | L33: 12.371857 | M33: 230000000000
A34: UG12H0707226 | B34: 43097 | C34: UG12H0707226 5YR 14.125% 07-JUL-2022 | D34: 5 Year | E34: 0.14125 | F34: 44749 | G34: 3.3987146 | H34: 3.1990461 | I34: 0.033713894 | J34: 106.93953 | K34: 105.38733 | L34: 12.483 | M34: 312790000000 | P34: 0.54828571
A35: UG0000001624 | B35: 43073 | C35: UG0000001624 20.125% 04-DEC-2017 | E35: 0.125 | F35: 44893 | G35: 3.6464684 | H35: 3.4296139 | I35: 0.0341043 | J35: 102.11921 | K35: 99.440641 | L35: 12.646 | M35: 200000000000 | P35: 0.13707143
A36: UG0000011367 | B36: 41445 | C36: 45220-T-BOND-10-13-APR-23 | E36: 0.11 | F36: 45029 | G36: 3.8764542 | H36: 3.64313 | I36: 0.033984077 | J36: 97.029889 | K36: 93.282636 | L36: 12.809 | M36: 50000000000
B37: 41444 | C37: 14.000% 18-JAN-2024 | E37: 0.14 | F37: 45309 | G37: 4.2166774 | H37: 3.9598421 | I37: 0.041236374 | J37: 105.13641 | K37: 104.13641 | L37: 12.972 | M37: 150000000000
B38: 41949 | C38: TBOND-10YR-14.000% 01-AUG-2024 | E38: 0.14 | F38: 45505 | G38: 4.4777938 | H38: 4.2018381 | I38: 0.043564361 | J38: 104.14083 | K38: 103.67929 | L38: 13.135 | M38: 220000000000
A39: UG0000001400 | B39: 42032 | C39: UG0000001400 17.000% 16-JAN-2025 | E39: 0.17 | F39: 45673 | G39: 4.4748364 | H39: 4.1958541 | I39: 0.048838272 | J39: 117.61078 | K39: 116.3965 | L39: 13.298 | M39: 429062000000
A40: UG0000001715 | B40: 42452 | C40: UG0000001715 19.500% 18-DEC-2025 | E40: 0.195 | F40: 46009 | G40: 4.6325482 | H40: 4.3404165 | I40: 0.055846343 | J40: 131.55872 | K40: 128.66586 | L40: 13.461 | M40: 385093500000
...

Sheet Sheet2
A1: ISIN | B1: Security Name | C1: Coupon | D1: Date due | E1: Modified Duration | F1: Dirty Price | G1: Clean Price | H1: YTM
A2: UG0000001699 | B2: UG0000001699 16.500% 21-SEP-2021 | C2: 0.165 | D2: 44460 | E2: 2.6969185 | F2: 118.13852 | G2: 113.37891 | H2: 11.915125
A3: UG12H2811224 | B3: UG12H2811224 12.5% 28-NOV-2022 | C3: 0.125 | D3: 44893 | E3: 3.5434537 | F3: 101.1777 | G3: 99.941437 | H3: 12.508

Sheet T-Bonds as at 16th Oct 2026
A1: Maturity Date | B1: YTM
A2: 46317 | B2: 12.2
A3: 46387 | B3: 11.075
A4: 46478 | B4: 11.979
A5: 46513 | B5: 12.345
A6: 46660 | B6: 12.711
A7: 46765 | B7: 13.288
A8: 46940 | B8: 13.866
A9: 47073 | B9: 14.443
A10: 47353 | B10: 14.661
A11: 47367 | B11: 14.879
A12: 47380 | B12: 15.013
A13: 47605 | B13: 15.147
... A31: 54976 | B31: 17.193

Sheet SLF
A1: Date Due | B1: Dirty Price | C1: FV | D1: MV | E1: 0.75 Haircut | H1: Bank | I1: Total FV | J1: Total MV | K1: Maximum Amount to Borrow
A2: =+'Price Matrix 16th Oct 2026'!#REF! -> #REF! | B2: =+'Price Matrix 16th Oct 2026'!#REF! -> #REF! | D2: =+C2*B2/100 -> #REF! | E2: =+D2*0.75 -> #REF! | I2: =SUM(C2:C1048576) -> 0 | J2: =SUM(D2:D1048576) -> #REF! | K2: =SUM(E2:E1048576) -> #REF!
A3: =+'Price Matrix 16th Oct 2026'!#REF! -> #REF! | B3: =+'Price Matrix 16th Oct 2026'!#REF! -> #REF! | D3: =+C3*B3/100 -> #REF! | E3: =+D3*0.75 -> #REF!
A4: =+'Price Matrix 16th Oct 2026'!#REF! -> #REF! | B4: =+'Price Matrix 16th Oct 2026'!#REF! -> #REF! | D4: =+C4*B4/100 -> #REF! | E4: =+D4*0.75 -> #REF!
A5: =+'Price Matrix 16th Oct 2026'!#REF! -> #REF! | B5: =+'Price Matrix 16th Oct 2026'!#REF! -> #REF! | D5: =+C5*B5/100 -> #REF! | E5: =+D5*0.75 -> #REF!
A6: =+'Price Matrix 16th Oct 2026'!#REF! -> #REF! | B6: =+'Price Matrix 16th Oct 2026'!#REF! -> #REF! | D6: =+C6*B6/100 -> #REF! | E6: =+D6*0.75 -> #REF! | H6: 45176 | I6: 6000000000 | J6: 44806 | K6: =+H6-J6 -> 370 | L6: =+K6/365 -> 1.0136986 | M6: 6 | N6: =1-0.06 -> 0.94
A7: =+'Price Matrix 16th Oct 2026'!#REF! -> #REF! | B7: =+'Price Matrix 16th Oct 2026'!#REF! -> #REF! | D7: =+C7*B7/100 -> #REF! | E7: =+D7*0.96 -> #REF! | H7: 46534 | I7: 10000000000 | J7: 44806 | K7: =+H7-J7 -> 1728 | L7: =+K7/365 -> 4.7342466 | M7: 7 | N7: =1-0.07 -> 0.93
A8: =+'Price Matrix 16th Oct 2026'!E2 -> 0 | B8: =+'Price Matrix 16th Oct 2026'!G2 -> 42452 | D8: =+C8*B8/100 -> 0 | E8: =+D8*0.75 -> 0 | H8: 48277 | I8: 5000000000 | J8: 44806 | K8: =+H8-J8 -> 3471 | L8: =+K8/365 -> 9.509589 | M8: 7.5 | N8: =1-0.075 -> 0.925
A9: =+'Price Matrix 16th Oct 2026'!E3 -> 0 | B9: =+'Price Matrix 16th Oct 2026'!G3 -> 45841 | D9: =+C9*B9/100 -> 0 | E9: =+D9*0.75 -> 0 | H9: 45673 | I9: 4000000000 | J9: 44806 | K9: =+H9-J9 -> 867 | L9: =+K9/365 -> 2.3753425 | M9: 6 | N9: =1-0.06 -> 0.94
A10: =+'Price Matrix 16th Oct 2026'!E4 -> 0 | B10: =+'Price Matrix 16th Oct 2026'!G4 -> 45841 | D10: =+C10*B10/100 -> 0 | E10: =+D10*0.75 -> 0 | I10: =SUM(I6:I9) -> 25000000000 | J10: 44806 | K10: =+H10-J10 -> -44806
A11: =+'Price Matrix 16th Oct 2026'!E5 -> 0 | B11: =+'Price Matrix 16th Oct 2026'!G5 -> 45120 | D11: =+C11*B11/100 -> 0 | E11: =+D11*0.75 -> 0
A12: =+'Price Matrix 16th Oct 2026'!E6 -> 0 | B12: =+'Price Matrix 16th Oct 2026'!G6 -> 42620 | D12: =+C12*B12/100 -> 0 | E12: =+D12*0.75 -> 0
A13: =+'Price Matrix 16th Oct 2026'!E7 -> 0 | B13: =+'Price Matrix 16th Oct 2026'!G7 -> 43013 | D13: =+C13*B13/100 -> 0 | E13: =+D13*0.75 -> 0 | M13: 5.834165e+09
A14: =+'Price Matrix 16th Oct 2026'!E8 -> 0 | B14: =+'Price Matrix 16th Oct 2026'!G8 -> 43181 | D14: =+C14*B14/100 -> 0 | E14: =+D14*0.94 -> 0 | K14: =30*0.05 -> 1.5 | M14: 9.9434603e+09
A15: =+'Price Matrix 16th Oct 2026'!E9 -> 0 | B15: =+'Price Matrix 16th Oct 2026'!G9 -> 41612 | D15: =+C15*B15/100 -> 0 | E15: =+D15*0.75 -> 0 | M15: 5.0153524e+09
A16: =+'Price Matrix 16th Oct 2026'!E10 -> 0 | B16: =+'Price Matrix 16th Oct 2026'!G10 -> 43293 | D16: =+C16*B16/100 -> 0 | E16: =+D16*0.75 -> 0 | M16: 3.994186e+09
A17: =+'Price Matrix 16th Oct 2026'!E11 -> 0 | B17: =+'Price Matrix 16th Oct 2026'!G11 -> 43740 | D17: =+C17*B17/100 -> 0 | E17: =+D17*0.75 -> 0 | M17: =SUM(M13:M16) -> 2.4787164e+10
A18: =+'Price Matrix 16th Oct 2026'!E12 -> 0 | B18: =+'Price Matrix 16th Oct 2026'!G12 -> 42313 | D18: =+C18*B18/100 -> 0 | E18: =+D18*0.93 -> 0
A19: =+'Price Matrix 16th Oct 2026'!E13 -> 0 | B19: =+'Price Matrix 16th Oct 2026'!G13 -> 44161 | D19: =+C19*B19/100 -> 0 | E19: =+D19*0.75 -> 0
A20: =+'Price Matrix 16th Oct 2026'!E14 -> 0 | B20: =+'Price Matrix 16th Oct 2026'!G14 -> 42481 | D20: =+C20*B20/100 -> 0 | E20: =+D20*0.75 -> 0
A21: =+'Price Matrix 16th Oct 2026'!E15 -> 0 | B21: =+'Price Matrix 16th Oct 2026'!G15 -> 43069 | D21: =+C21*B21/100 -> 0 | E21: =+D21*0.75 -> 0
A22: =+'Price Matrix 16th Oct 2026'!E16 -> 0 | B22: =+'Price Matrix 16th Oct 2026'!G16 -> 44714 | D22: =+C22*B22/100 -> 0 | E22: =+D22*0.75 -> 0
A23: =+'Price Matrix 16th Oct 2026'!E17 -> 0 | B23: =+'Price Matrix 16th Oct 2026'!G17 -> 43153 | D23: =+C23*B23/100 -> 0 | E23: =+D23*0.75 -> 0
A24: =+'Price Matrix 16th Oct 2026'!E18 -> 0 | B24: =+'Price Matrix 16th Oct 2026'!G18 -> 43657 | D24: =+C24*B24/100 -> 0 | E24: =+D24*0.75 -> 0
A25: =+'Price Matrix 16th Oct 2026'!E19 -> 0 | B25: =+'Price Matrix 16th Oct 2026'!G19 -> 44161 | D25: =+C25*B25/100 -> 0 | E25: =+D25*0.75 -> 0
A26: =+'Price Matrix 16th Oct 2026'!E20 -> 0 | B26: =+'Price Matrix 16th Oct 2026'!G20 -> 44714 | D26: =+C26*B26/100 -> 0 | E26: =+D26*0.925 -> 0
A27: =+'Price Matrix 16th Oct 2026'!E21 -> 0 | B27: =+'Price Matrix 16th Oct 2026'!G21 -> 45484 | D27: =+C27*B27/100 -> 0 | E27: =+D27*0.75 -> 0
A28: =+'Price Matrix 16th Oct 2026'!E22 -> 0 | B28: =+'Price Matrix 16th Oct 2026'!G22 -> 44161 | D28: =+C28*B28/100 -> 0 | E28: =+D28*0.75 -> 0
A29: =+'Price Matrix 16th Oct 2026'!E23 -> 0 | B29: =+'Price Matrix 16th Oct 2026'!G23 -> 44714 | D29: =+C29*B29/100 -> 0 | E29: =+D29*0.75 -> 0
A30: =+'Price Matrix 16th Oct 2026'!E24 -> 0 | B30: =+'Price Matrix 16th Oct 2026'!G24 -> 44812 | D30: =+C30*B30/100 -> 0 | E30: =+D30*0.75 -> 0
A31: =+'Price Matrix 16th Oct 2026'!E25 -> 0 | B31: =+'Price Matrix 16th Oct 2026'!G25 -> 45120 | D31: =+C31*B31/100 -> 0 | E31: =+D31*0.75 -> 0
A32: =+'Price Matrix 16th Oct 2026'!#REF! -> #REF! | B32: =+'Price Matrix 16th Oct 2026'!#REF! -> #REF! | D32: =+C32*B32/100 -> #REF! | E32: =+D32*0.75 -> #REF!
A33: =+'Price Matrix 16th Oct 2026'!#REF! -> #REF! | B33: =+'Price Matrix 16th Oct 2026'!#REF! -> #REF! | D33: =+C33*B33/100 -> #REF! | E33: =+D33*0.75 -> #REF!
A34: =+'Price Matrix 16th Oct 2026'!#REF! -> #REF! | B34: =+'Price Matrix 16th Oct 2026'!#REF! -> #REF! | D34: =+C34*B34/100 -> #REF! | E34: =+D34*0.75 -> #REF!
A35: =+'Price Matrix 16th Oct 2026'!#REF! -> #REF! | B35: =+'Price Matrix 16th Oct 2026'!#REF! -> #REF! | D35: =+C35*B35/100 -> #REF! | E35: =+D35*0.75 -> #REF!
A36: =+'Price Matrix 16th Oct 2026'!#REF! -> #REF! | B36: =+'Price Matrix 16th Oct 2026'!#REF! -> #REF! | D36: =+C36*B36/100 -> #REF! | E36: =+D36*0.75 -> #REF!
A37: =+'Price Matrix 16th Oct 2026'!#REF! -> #REF! | B37: =+'Price Matrix 16th Oct 2026'!#REF! -> #REF! | D37: =+C37*B37/100 -> #REF! | E37: =+D37*0.75 -> #REF!
A38: =+'Price Matrix 16th Oct 2026'!#REF! -> #REF! | B38: =+'Price Matrix 16th Oct 2026'!#REF! -> #REF! | D38: =+C38*B38/100 -> #REF! | E38: =+D38*0.75 -> #REF!
A39: =+'Price Matrix 16th Oct 2026'!#REF! -> #REF! | B39: =+'Price Matrix 16th Oct 2026'!#REF! -> #REF! | D39: =+C39*B39/100 -> #REF! | E39: =+D39*0.75 -> #REF!
A40: =+'Price Matrix 16th Oct 2026'!#REF! -> #REF! | B40: =+'Price Matrix 16th Oct 2026'!#REF! -> #REF! | D40: =+C40*B40/100 -> #REF! | E40: =+D40*0.75 -> #REF!
...
